BEGIN:VCALENDAR
VERSION:2.0
PRODID:-//https://ftp.cameronstation.org//NONSGML kigkonsult.se iCalcreator 2.41.71//
CALSCALE:GREGORIAN
METHOD:PUBLISH
UID:33316461-6339-4261-b033-363538313262
X-WR-CALNAME:JCal Pro Calendar
X-WR-CALDESC:Your online events calendar
X-WR-TIMEZONE:America/New_York
BEGIN:VTIMEZONE
TZID:America/New_York
TZUNTIL:20271107T060000Z
BEGIN:STANDARD
TZNAME:EST
DTSTART:20251102T020000
TZOFFSETFROM:-0400
TZOFFSETTO:-0500
RDATE:20261101T020000
END:STANDARD
BEGIN:DAYLIGHT
TZNAME:EDT
DTSTART:20260308T020000
TZOFFSETFROM:-0500
TZOFFSETTO:-0400
RDATE:20270314T020000
END:DAYLIGHT
END:VTIMEZONE
BEGIN:VEVENT
UID:20240407T083000UTC-3909Tm3SD0@https://cameronstation.org/
DTSTAMP:20260424T001209Z
CATEGORIES:Local Events
DESCRIPTION:<p>The city has granted permission for the Farmers Market in Be
 n Brenman Park to be open 12 months a year. Hours are Sundays\, 8:30 am -1
 :00 pm. For information\, including a list of vendors\, click on&nbsp\;<sp
 an style='text-decoration: underline\;'><a href='https://r20.rs6.net/tn.js
 p?f=001xN0n6LgCsJdsHY22z38KaYen-x85VdZwwH0xz4I7xhQThNIA1cdA-OABn9_3b19t3-8
 RQ4ivP8yIHYQ4gk5hicQL8ASjOzqWJBhOMW_nXW-Ngxu0QLrPl7GDeiqRKma8_O9Le-wFj08iR
 X-FuJJQFDeH4LprfeqDHRVmsoqYqKhuyPyaKQNgjLFONOsIauCvSx5hMh9MsuF2_3JsyqxGNuE
 0b58gqOoCkzZYmC0Jn95_AJgHfNG8BjpaRzeB9Y19r8kPNkZHSZzP2SGZJJ_jWiO3GXdrHE5W-
 xE3EUBuKbmhUvwQAglnXk5kHr8whdaFLm5UqxSo3aN0-EAmph4TSt6TJiO2oaEOrr4ln2feBHS
 hsIcwXl9AhdMeIV8kKQstWUI91zm1Vj-EGzfqle0jC1CDU3F0k--pxAHiYtAfij6mbkMAZ1yo8
 BjI6HrlW5coPOHjiu1ojOuLB_iL7cPMxYRwBWtbrFMRy_-VCq_OU-SeceVaTfu2z-TzVwh6cyj
 OdYC2nakmHaYWkzjrD9NUR1l024wKgHwNImX-etnkDBOV9tx21SZG4CvXDwH3TkPQfZ7Xqw2bu
 biRy7qhALB7rbLHWGLNwfrIkNMCcVIJbLtc0OejBSq5RAj2pNttHQqZtJIqgf1iB8Ona5MpifW
 HHvpJEZahxqAw1JftiDsHa4vooacO9yIAUppcdd31H_jKY0iy05v05DcILYW4UVxbX715XRMik
 _9i&amp\;c=VXLFvCie9-aOnWgzBwEaY7pY5azTRG5uFQENRt6iazGS2H-A83btzQ==&amp\;c
 h=0axa4QpJuxxUVhGSpo2TlxHrNAeELOIkb96FlYP13hpgPsMswMFAIA==' target='_blank
 ' rel='noopener'>westendfarmersmarket.org</a></span>&nbsp\;or contact Rubi
 e Williams at 703-606-0503.</p>
DTSTART;TZID=America/New_York:20240407T083000
DTEND;TZID=America/New_York:20240407T130000
RRULE:FREQ=WEEKLY;UNTIL=20260531T040000Z;INTERVAL=1;BYDAY=SU
SUMMARY:West End Farmers Market
URL:https://ftp.cameronstation.org/calendar/86-local-events/7032-west-end-f
 armers-market
X-ALT-DESC;FMTTYPE=TEXT/HTML:<p>The city has granted permission for the Far
 mers Market in Ben Brenman Park to be open 12 months a year. Hours are Sun
 days\, 8:30 am -1:00 pm. For information\, including a list of vendors\, c
 lick on&nbsp\;<span style='text-decoration: underline\;'><a href='https://
 r20.rs6.net/tn.jsp?f=001xN0n6LgCsJdsHY22z38KaYen-x85VdZwwH0xz4I7xhQThNIA1c
 dA-OABn9_3b19t3-8RQ4ivP8yIHYQ4gk5hicQL8ASjOzqWJBhOMW_nXW-Ngxu0QLrPl7GDeiqR
 Kma8_O9Le-wFj08iRX-FuJJQFDeH4LprfeqDHRVmsoqYqKhuyPyaKQNgjLFONOsIauCvSx5hMh
 9MsuF2_3JsyqxGNuE0b58gqOoCkzZYmC0Jn95_AJgHfNG8BjpaRzeB9Y19r8kPNkZHSZzP2SGZ
 JJ_jWiO3GXdrHE5W-xE3EUBuKbmhUvwQAglnXk5kHr8whdaFLm5UqxSo3aN0-EAmph4TSt6TJi
 O2oaEOrr4ln2feBHShsIcwXl9AhdMeIV8kKQstWUI91zm1Vj-EGzfqle0jC1CDU3F0k--pxAHi
 YtAfij6mbkMAZ1yo8BjI6HrlW5coPOHjiu1ojOuLB_iL7cPMxYRwBWtbrFMRy_-VCq_OU-Sece
 VaTfu2z-TzVwh6cyjOdYC2nakmHaYWkzjrD9NUR1l024wKgHwNImX-etnkDBOV9tx21SZG4CvX
 DwH3TkPQfZ7Xqw2bubiRy7qhALB7rbLHWGLNwfrIkNMCcVIJbLtc0OejBSq5RAj2pNttHQqZtJ
 Iqgf1iB8Ona5MpifWHHvpJEZahxqAw1JftiDsHa4vooacO9yIAUppcdd31H_jKY0iy05v05DcI
 LYW4UVxbX715XRMik_9i&amp\;c=VXLFvCie9-aOnWgzBwEaY7pY5azTRG5uFQENRt6iazGS2H
 -A83btzQ==&amp\;ch=0axa4QpJuxxUVhGSpo2TlxHrNAeELOIkb96FlYP13hpgPsMswMFAIA=
 =' target='_blank' rel='noopener'>westendfarmersmarket.org</a></span>&nbsp
 \;or contact Rubie Williams at 703-606-0503.</p>
END:VEVENT
BEGIN:VEVENT
UID:20250604T103000UTC-7217vxuAWv@https://cameronstation.org/
DTSTAMP:20260424T001209Z
CATEGORIES:Fitness Center
DESCRIPTION:<p>Stretch &amp\; Core (Complimentary) - Mondays and Wednesdays
  10:30 - 11:30 am -&nbsp\;Multi-Purpose Court</p>\n<p>A focused abdominal 
 &amp\; core training session using a variety of tools\, which may include 
 stability balls\, BOSU\, medicine balls\, and weights integrated with rest
 orative stretch and flexibility.</p>
DTSTART;TZID=America/New_York:20250604T103000
DTEND;TZID=America/New_York:20250604T113000
RRULE:FREQ=WEEKLY;UNTIL=20260629T040000Z;INTERVAL=1;BYDAY=MO,WE
SUMMARY:Stretch and Core
URL:https://ftp.cameronstation.org/calendar/83-fitness-center/9240-stretch-
 and-core
X-ALT-DESC;FMTTYPE=TEXT/HTML:<p>Stretch &amp\; Core (Complimentary) - Monda
 ys and Wednesdays 10:30 - 11:30 am -&nbsp\;Multi-Purpose Court</p>\n<p>A f
 ocused abdominal &amp\; core training session using a variety of tools\, w
 hich may include stability balls\, BOSU\, medicine balls\, and weights int
 egrated with restorative stretch and flexibility.</p>
END:VEVENT
BEGIN:VEVENT
UID:20250106T183000UTC-1110oKfAAv@https://cameronstation.org/
DTSTAMP:20260424T001209Z
CATEGORIES:Fitness Center
DESCRIPTION:<p><strong>Vinyasa Flow Yoga (Complimentary) – Mondays 6:30 pm 
 – 7:30 pm – Victoria Hebert Great Room</strong></p>\n<p>Vinyasa yoga\, in 
 which movement is synchronized to the breath\, is a term that covers a bro
 ad range of yoga classes. This style is sometimes also called flow yoga\, 
 because of the smooth way that the poses run together and become like a da
 nce.</p>\n<p>The breath acts as an anchor to the movement as you flow from
  one pose to the next in time with an inhale or an exhale.</p>
DTSTART;TZID=America/New_York:20250113T183000
DTEND;TZID=America/New_York:20250113T193000
RRULE:FREQ=WEEKLY;UNTIL=20260629T040000Z;INTERVAL=1;BYDAY=MO
SUMMARY:Vinyasa Flow Yoga
URL:https://ftp.cameronstation.org/calendar/83-fitness-center/8171-vinyasa-
 flow-yoga
X-ALT-DESC;FMTTYPE=TEXT/HTML:<p><strong>Vinyasa Flow Yoga (Complimentary) –
  Mondays 6:30 pm – 7:30 pm – Victoria Hebert Great Room</strong></p>\n<p>V
 inyasa yoga\, in which movement is synchronized to the breath\, is a term 
 that covers a broad range of yoga classes. This style is sometimes also ca
 lled flow yoga\, because of the smooth way that the poses run together and
  become like a dance.</p>\n<p>The breath acts as an anchor to the movement
  as you flow from one pose to the next in time with an inhale or an exhale
 .</p>
END:VEVENT
BEGIN:VEVENT
UID:20250107T083000UTC-4150BGHvUo@https://cameronstation.org/
DTSTAMP:20260424T001209Z
CATEGORIES:Fitness Center
DESCRIPTION:<div><strong>Yoga II (Complimentary) -&nbsp\;Tuesdays 8:30 am -
  9:30 am - Victoria Hebert Great Room&nbsp\;</strong></div>\n<div>Yoga cla
 sses appropriate for those who want a softer\, nurturing\, slow-paced\, we
 ll-supported and relaxing practice. The approach includes carefully orches
 trated movements\, controlled pressure\, and well-measured stretches\, inc
 luding range of motion exercises. Postures may be approached in gradual st
 eps\, with plenty of time to focus on breathing and repetition so that the
  practice is simple to do and easy to remember. This yoga style encourages
  a highly individualized approach to practice with on-going encouragement 
 to make moment-to-moment adjustments.</div>
DTSTART;TZID=America/New_York:20250107T083000
DTEND;TZID=America/New_York:20250107T093000
RRULE:FREQ=WEEKLY;UNTIL=20260630T040000Z;INTERVAL=1;BYDAY=TU
SUMMARY:Yoga II
URL:https://ftp.cameronstation.org/calendar/83-fitness-center/8397-yoga-ii
X-ALT-DESC;FMTTYPE=TEXT/HTML:<div><strong>Yoga II (Complimentary) -&nbsp\;T
 uesdays 8:30 am - 9:30 am - Victoria Hebert Great Room&nbsp\;</strong></di
 v>\n<div>Yoga classes appropriate for those who want a softer\, nurturing\
 , slow-paced\, well-supported and relaxing practice. The approach includes
  carefully orchestrated movements\, controlled pressure\, and well-measure
 d stretches\, including range of motion exercises. Postures may be approac
 hed in gradual steps\, with plenty of time to focus on breathing and repet
 ition so that the practice is simple to do and easy to remember. This yoga
  style encourages a highly individualized approach to practice with on-goi
 ng encouragement to make moment-to-moment adjustments.</div>
END:VEVENT
BEGIN:VEVENT
UID:20250102T183000UTC-6828772T7c@https://cameronstation.org/
DTSTAMP:20260424T001209Z
CATEGORIES:Fitness Center
DESCRIPTION:<p>Boot Camp (Complimentary) - Tuesdays and Thursdays 6:30-7:30
 pm -&nbsp\;Multi-Purpose Court</p>
DTSTART;TZID=America/New_York:20250102T183000
DTEND;TZID=America/New_York:20250102T193000
EXDATE;TZID=America/New_York:20251127T183000
RRULE:FREQ=WEEKLY;UNTIL=20260528T040000Z;INTERVAL=1;BYDAY=TU,TH
SUMMARY:Boot Camp
URL:https://ftp.cameronstation.org/calendar/83-fitness-center/8274-boot-cam
 p
X-ALT-DESC;FMTTYPE=TEXT/HTML:<p>Boot Camp (Complimentary) - Tuesdays and Th
 ursdays 6:30-7:30pm -&nbsp\;Multi-Purpose Court</p>
END:VEVENT
BEGIN:VEVENT
UID:20251126T140000UTC-6990vnt3b9@https://cameronstation.org/
DTSTAMP:20260424T001209Z
CATEGORIES:Advisories
DESCRIPTION:<p><span data-olk-copy-source='MessageBody'>Management Office H
 oliday Hours&nbsp\;</span></p>\n<ul>\n<li>The Management Office will be&nb
 sp\;closing at 2:00 pm Wednesday\, November 26\, 2025\, and will be closed
  Thursday\, November 27\, and Friday\, November 28\, 2025\,&nbsp\;in obser
 vance of the&nbsp\;<span class='markuf2g4xeok' data-markjs='true'>Thanksgi
 ving Holiday</span>.</li>\n</ul>
DTSTART;TZID=America/New_York:20251126T140000
DTEND;TZID=America/New_York:20251126T170000
SUMMARY:Thanksgiving Holiday: Management Office Hours
URL:https://ftp.cameronstation.org/calendar/84-advisories/10058-thanksgivin
 g-holiday-management-office-hours
X-ALT-DESC;FMTTYPE=TEXT/HTML:<p><span data-olk-copy-source='MessageBody'>Ma
 nagement Office Holiday Hours&nbsp\;</span></p>\n<ul>\n<li>The Management 
 Office will be&nbsp\;closing at 2:00 pm Wednesday\, November 26\, 2025\, a
 nd will be closed Thursday\, November 27\, and Friday\, November 28\, 2025
 \,&nbsp\;in observance of the&nbsp\;<span class='markuf2g4xeok' data-markj
 s='true'>Thanksgiving Holiday</span>.</li>\n</ul>
END:VEVENT
BEGIN:VEVENT
UID:20251126T180000UTC-1924pCkCVD@https://cameronstation.org/
DTSTAMP:20260424T001209Z
CATEGORIES:Advisories
DESCRIPTION:<p>Cameron Club Holiday Hours</p>\n<ul>\n<li>The Cameron Club/F
 itness Center will be&nbsp\;closing at 6:00 p.m. Wednesday\, November 26\,
  2025\, and will be closed Thursday\, November 27\, 2025\, in observance o
 f the Thanksgiving Holiday.&nbsp\;Normal hours will resume on Friday\, Nov
 ember 28\, 2025.</li>\n</ul>\n<p>&nbsp\;</p>
DTSTART;TZID=America/New_York:20251126T180000
DTEND;TZID=America/New_York:20251126T180000
SUMMARY:Thanksgiving Holiday: Cameron Club Hours
URL:https://ftp.cameronstation.org/calendar/84-advisories/9309-thanksgiving
 -holiday-cameron-club-hours
X-ALT-DESC;FMTTYPE=TEXT/HTML:<p>Cameron Club Holiday Hours</p>\n<ul>\n<li>T
 he Cameron Club/Fitness Center will be&nbsp\;closing at 6:00 p.m. Wednesda
 y\, November 26\, 2025\, and will be closed Thursday\, November 27\, 2025\
 , in observance of the Thanksgiving Holiday.&nbsp\;Normal hours will resum
 e on Friday\, November 28\, 2025.</li>\n</ul>\n<p>&nbsp\;</p>
END:VEVENT
BEGIN:VEVENT
UID:20250108T183000UTC-9044DSvv86@https://cameronstation.org/
DTSTAMP:20260424T001209Z
CATEGORIES:Fitness Center
DESCRIPTION:<p><strong>POMSQUAD Fitness Class (Complimentary) - Cancelled&n
 bsp\;</strong></p>\n<p>&nbsp\;Cameron Club Holiday Hours</p>\n<ul>\n<li>Th
 e Cameron Club/Fitness Center will be&nbsp\;closing at 6:00 p.m. Wednesday
 \, November 26\, 2025\, and will be closed Thursday\, November 27\, 2025\,
  in observance of the Thanksgiving Holiday.&nbsp\;Normal hours will resume
  on Friday\, November 28\, 2025.</li>\n</ul>
DTSTART;TZID=America/New_York:20251126T183000
DTEND;TZID=America/New_York:20251126T193000
SUMMARY:POMSQUAD Fitness Class - Cancelled
URL:https://ftp.cameronstation.org/calendar/83-fitness-center/8532-pomsquad
 -fitness-class
X-ALT-DESC;FMTTYPE=TEXT/HTML:<p><strong>POMSQUAD Fitness Class (Complimenta
 ry) - Cancelled&nbsp\;</strong></p>\n<p>&nbsp\;Cameron Club Holiday Hours<
 /p>\n<ul>\n<li>The Cameron Club/Fitness Center will be&nbsp\;closing at 6:
 00 p.m. Wednesday\, November 26\, 2025\, and will be closed Thursday\, Nov
 ember 27\, 2025\, in observance of the Thanksgiving Holiday.&nbsp\;Normal 
 hours will resume on Friday\, November 28\, 2025.</li>\n</ul>
END:VEVENT
BEGIN:VEVENT
UID:20251127T080000UTC-3981bcPrNv@https://cameronstation.org/
DTSTAMP:20260424T001209Z
CATEGORIES:Advisories
DESCRIPTION:<p><span data-olk-copy-source='MessageBody'>Management Office</
 span></p>\n<ul>\n<li>The Management Office will be&nbsp\;closed Thursday\,
  November 27\, and Friday\, November 28\, 2025\,&nbsp\;in observance of th
 e&nbsp\;<span class='markuf2g4xeok' data-markjs='true'>Thanksgiving Holida
 y</span>.&nbsp\;Normal hours will resume on Monday\, December 1\, 2025\, a
 t 9:00 am.</li>\n</ul>\n<p>&nbsp\;Cameron Club Holiday Hours</p>\n<ul>\n<l
 i>The Cameron Club/Fitness Center will be&nbsp\;closing at 6:00 p.m. Wedne
 sday\, November 26\, 2025\, and will be closed Thursday\, November 27\, 20
 25\, in observance of the Thanksgiving Holiday.&nbsp\;Normal hours will re
 sume on Friday\, November 28\, 2025.</li>\n</ul>\n<p>&nbsp\;Trash/Recyclin
 g Schedule</p>\n<ul>\n<li>There will be&nbsp\;no trash\, recycling OR bulk
  collection on Thursday\, November 27\, 2025.&nbsp\;Trash will only be col
 lected on Monday\, November 24\, 2025.&nbsp\;Recycle &amp\; Bulk item coll
 ection will resume Thursday\, December 4\, 2025.&nbsp\;</li>\n</ul>\n<p>&n
 bsp\;Shuttle Bus Schedule&nbsp\;</p>\n<ul>\n<li>The shuttle bus will&nbsp\
 ;not&nbsp\;operate on&nbsp\;Thursday\, November 27\, 2025.&nbsp\;Shuttle b
 us service will resume on Friday\, November 28\, 2025.&nbsp\;<a href='abou
 t/neighborhood-amenities/shuttle-bus'>Click here&nbsp\;</a>for the shuttle
  bus schedule.</li>\n</ul>
DTSTART;TZID=America/New_York:20251127T000000
DTEND;TZID=America/New_York:20251127T235959
SUMMARY:Thanksgiving Holiday: Cameron Club Closed!
URL:https://ftp.cameronstation.org/calendar/84-advisories/9310-thanksgiving
 -holiday-cameron-club-closed
X-ALT-DESC;FMTTYPE=TEXT/HTML:<p><span data-olk-copy-source='MessageBody'>Ma
 nagement Office</span></p>\n<ul>\n<li>The Management Office will be&nbsp\;
 closed Thursday\, November 27\, and Friday\, November 28\, 2025\,&nbsp\;in
  observance of the&nbsp\;<span class='markuf2g4xeok' data-markjs='true'>Th
 anksgiving Holiday</span>.&nbsp\;Normal hours will resume on Monday\, Dece
 mber 1\, 2025\, at 9:00 am.</li>\n</ul>\n<p>&nbsp\;Cameron Club Holiday Ho
 urs</p>\n<ul>\n<li>The Cameron Club/Fitness Center will be&nbsp\;closing a
 t 6:00 p.m. Wednesday\, November 26\, 2025\, and will be closed Thursday\,
  November 27\, 2025\, in observance of the Thanksgiving Holiday.&nbsp\;Nor
 mal hours will resume on Friday\, November 28\, 2025.</li>\n</ul>\n<p>&nbs
 p\;Trash/Recycling Schedule</p>\n<ul>\n<li>There will be&nbsp\;no trash\, 
 recycling OR bulk collection on Thursday\, November 27\, 2025.&nbsp\;Trash
  will only be collected on Monday\, November 24\, 2025.&nbsp\;Recycle &amp
 \; Bulk item collection will resume Thursday\, December 4\, 2025.&nbsp\;</
 li>\n</ul>\n<p>&nbsp\;Shuttle Bus Schedule&nbsp\;</p>\n<ul>\n<li>The shutt
 le bus will&nbsp\;not&nbsp\;operate on&nbsp\;Thursday\, November 27\, 2025
 .&nbsp\;Shuttle bus service will resume on Friday\, November 28\, 2025.&nb
 sp\;<a href='about/neighborhood-amenities/shuttle-bus'>Click here&nbsp\;</
 a>for the shuttle bus schedule.</li>\n</ul>
END:VEVENT
BEGIN:VEVENT
UID:20250102T090000UTC-5448v5PCsE@https://cameronstation.org/
DTSTAMP:20260424T001209Z
CATEGORIES:Fitness Center
DESCRIPTION:<p><strong>Gentle Yoga (Complimentary) - Thursdays 9:00 - 10:00
  am - Cancelled</strong></p>\n<p>&nbsp\;Cameron Club Holiday Hours</p>\n<u
 l>\n<li>The Cameron Club/Fitness Center will be&nbsp\;closing at 6:00 p.m.
  Wednesday\, November 26\, 2025\, and will be closed Thursday\, November 2
 7\, 2025\, in observance of the Thanksgiving Holiday.&nbsp\;Normal hours w
 ill resume on Friday\, November 28\, 2025.</li>\n</ul>
DTSTART;TZID=America/New_York:20251127T090000
DTEND;TZID=America/New_York:20251127T100000
SUMMARY:Gentle Yoga - Cancelled
URL:https://ftp.cameronstation.org/calendar/83-fitness-center/8270-gentle-y
 oga
X-ALT-DESC;FMTTYPE=TEXT/HTML:<p><strong>Gentle Yoga (Complimentary) - Thurs
 days 9:00 - 10:00 am - Cancelled</strong></p>\n<p>&nbsp\;Cameron Club Holi
 day Hours</p>\n<ul>\n<li>The Cameron Club/Fitness Center will be&nbsp\;clo
 sing at 6:00 p.m. Wednesday\, November 26\, 2025\, and will be closed Thur
 sday\, November 27\, 2025\, in observance of the Thanksgiving Holiday.&nbs
 p\;Normal hours will resume on Friday\, November 28\, 2025.</li>\n</ul>
END:VEVENT
BEGIN:VEVENT
UID:20250102T183000UTC-6828772T7c@https://cameronstation.org/
DTSTAMP:20260424T001209Z
CATEGORIES:Fitness Center
DESCRIPTION:<p>Boot Camp (Complimentary) - Tuesdays and Thursdays 6:30-7:30
 pm -&nbsp\;Cancelled</p>\n<p>&nbsp\;Cameron Club Holiday Hours</p>\n<ul>\n
 <li>The Cameron Club/Fitness Center will be&nbsp\;closing at 6:00 p.m. Wed
 nesday\, November 26\, 2025\, and will be closed Thursday\, November 27\, 
 2025\, in observance of the Thanksgiving Holiday.&nbsp\;Normal hours will 
 resume on Friday\, November 28\, 2025.</li>\n</ul>
DTSTART;TZID=America/New_York:20251127T183000
DTEND;TZID=America/New_York:20251127T193000
SUMMARY:Boot Camp - Cancelled
URL:https://ftp.cameronstation.org/calendar/83-fitness-center/8629-boot-cam
 p
X-ALT-DESC;FMTTYPE=TEXT/HTML:<p>Boot Camp (Complimentary) - Tuesdays and Th
 ursdays 6:30-7:30pm -&nbsp\;Cancelled</p>\n<p>&nbsp\;Cameron Club Holiday 
 Hours</p>\n<ul>\n<li>The Cameron Club/Fitness Center will be&nbsp\;closing
  at 6:00 p.m. Wednesday\, November 26\, 2025\, and will be closed Thursday
 \, November 27\, 2025\, in observance of the Thanksgiving Holiday.&nbsp\;N
 ormal hours will resume on Friday\, November 28\, 2025.</li>\n</ul>
END:VEVENT
BEGIN:VEVENT
UID:20251127T183000UTC-0278lVRogm@https://cameronstation.org/
DTSTAMP:20260424T001209Z
CATEGORIES:Fitness Center
DESCRIPTION:<p>Pilates (Complimentary) - Thursdays 6:30 - 7:30pm -&nbsp\;Vi
 ctoria Hebert Great Room</p>\n<p>This low impact\,&nbsp\;Pilates-inspired 
 class will tone\, strengthen\, and lengthen your muscles. Sculpt a lean\, 
 graceful and confident physique while improving your posture and balance!<
 /p>
DTSTART;TZID=America/New_York:20251127T183000
DTEND;TZID=America/New_York:20251127T193000
SUMMARY:Pilates - Cancelled
URL:https://ftp.cameronstation.org/calendar/83-fitness-center/10057-pilates
 -cancelled
X-ALT-DESC;FMTTYPE=TEXT/HTML:<p>Pilates (Complimentary) - Thursdays 6:30 - 
 7:30pm -&nbsp\;Victoria Hebert Great Room</p>\n<p>This low impact\,&nbsp\;
 Pilates-inspired class will tone\, strengthen\, and lengthen your muscles.
  Sculpt a lean\, graceful and confident physique while improving your post
 ure and balance!</p>
END:VEVENT
BEGIN:VEVENT
UID:20251128T090000UTC-9321uh9VtA@https://cameronstation.org/
DTSTAMP:20260424T001209Z
CATEGORIES:Advisories
DESCRIPTION:<p><span data-olk-copy-source='MessageBody'>Management Office</
 span></p>\n<ul>\n<li>The Management Office will be&nbsp\;closed Thursday\,
  November 27\, and Friday\, November 28\, 2025\,&nbsp\;in observance of th
 e&nbsp\;<span class='markuf2g4xeok' data-markjs='true'>Thanksgiving Holida
 y</span>.&nbsp\;Normal hours will resume on Monday\, December 1\, 2025\, a
 t 9:00 a.m.</li>\n</ul>\n<p>&nbsp\;Cameron Club Holiday Hours</p>\n<ul>\n<
 li>Normal hours will resume on Friday\, November 28\, 2025.</li>\n</ul>\n<
 p>&nbsp\;Shuttle Bus Schedule&nbsp\;</p>\n<ul>\n<li>Shuttle bus service wi
 ll resume on Friday\, November 28\, 2025.&nbsp\;<a href='about/neighborhoo
 d-amenities/shuttle-bus'>Click here&nbsp\;</a>for the shuttle bus schedule
 .</li>\n</ul>
DTSTART;TZID=America/New_York:20251128T090000
DTEND;TZID=America/New_York:20251128T090000
SUMMARY:Thanksgiving Holiday: Management Office Closed!
URL:https://ftp.cameronstation.org/calendar/84-advisories/9315-thanksgiving
 -holiday-office-closed
X-ALT-DESC;FMTTYPE=TEXT/HTML:<p><span data-olk-copy-source='MessageBody'>Ma
 nagement Office</span></p>\n<ul>\n<li>The Management Office will be&nbsp\;
 closed Thursday\, November 27\, and Friday\, November 28\, 2025\,&nbsp\;in
  observance of the&nbsp\;<span class='markuf2g4xeok' data-markjs='true'>Th
 anksgiving Holiday</span>.&nbsp\;Normal hours will resume on Monday\, Dece
 mber 1\, 2025\, at 9:00 a.m.</li>\n</ul>\n<p>&nbsp\;Cameron Club Holiday H
 ours</p>\n<ul>\n<li>Normal hours will resume on Friday\, November 28\, 202
 5.</li>\n</ul>\n<p>&nbsp\;Shuttle Bus Schedule&nbsp\;</p>\n<ul>\n<li>Shutt
 le bus service will resume on Friday\, November 28\, 2025.&nbsp\;<a href='
 about/neighborhood-amenities/shuttle-bus'>Click here&nbsp\;</a>for the shu
 ttle bus schedule.</li>\n</ul>
END:VEVENT
BEGIN:VEVENT
UID:20250103T103000UTC-7357HgHV17@https://cameronstation.org/
DTSTAMP:20260424T001209Z
CATEGORIES:Fitness Center
DESCRIPTION:<div class='doclink'><strong>Total Body Weights&nbsp\;(Complime
 ntary) - Fridays\, 10:30am-11:30am - Multi-Purpose Court</strong></div>\n<
 div class='doclink'>Weight training is the best way to increase your metab
 olism and burn calories while toning and firming. Whether you are a beginn
 er or experienced\, this is a class tailored to women and teaching the lat
 est strength training techniques and workouts.</div>
DTSTART;TZID=America/New_York:20250103T103000
DTEND;TZID=America/New_York:20250103T113000
RRULE:FREQ=WEEKLY;UNTIL=20260626T040000Z;INTERVAL=1;BYDAY=FR
SUMMARY:Total Body Weights
URL:https://ftp.cameronstation.org/calendar/83-fitness-center/8325-total-bo
 dy-weights
X-ALT-DESC;FMTTYPE=TEXT/HTML:<div class='doclink'><strong>Total Body Weight
 s&nbsp\;(Complimentary) - Fridays\, 10:30am-11:30am - Multi-Purpose Court<
 /strong></div>\n<div class='doclink'>Weight training is the best way to in
 crease your metabolism and burn calories while toning and firming. Whether
  you are a beginner or experienced\, this is a class tailored to women and
  teaching the latest strength training techniques and workouts.</div>
END:VEVENT
BEGIN:VEVENT
UID:20251004T090000UTC-65242wT4XI@https://cameronstation.org/
DTSTAMP:20260424T001209Z
CATEGORIES:Fitness Center
DESCRIPTION:<p><strong>Zumba&nbsp\;<strong>(Complimentary) - Saturdays&nbsp
 \;</strong>9:00 am- 10:00 am -&nbsp\;Multipurpose Court</strong></p>\n<p>I
 t's fun and effective\, using interval training combining fast and slow rh
 ythms for an effective aerobic workout while at the same time targeting yo
 ur legs\, abs\, glutes and arms.&nbsp\;The workout is watch and follow. Th
 e moves are repeated often enough for you to catch on and they're not comp
 licated. The routines are repeated week after week with additions every no
 w and then to spice things up even more!&nbsp\;Zumba combines high energy 
 and motivating music with unique moves and combinations that allow the Zum
 ba participants to dance away their worries. It is based on the principle 
 that a workout should be 'FUN AND EASY TO DO' for Zumba participants to st
 ick to the Zumba fitness program to achieve long-term health benefits. Zum
 ba is not only great for the body\, but it is also great for the mind!</p>
DTSTART;TZID=America/New_York:20251004T090000
DTEND;TZID=America/New_York:20251004T100000
RRULE:FREQ=WEEKLY;UNTIL=20260530T040000Z;INTERVAL=1;BYDAY=SA
SUMMARY:Zumba
URL:https://ftp.cameronstation.org/calendar/83-fitness-center/9182-zumba
X-ALT-DESC;FMTTYPE=TEXT/HTML:<p><strong>Zumba&nbsp\;<strong>(Complimentary)
  - Saturdays&nbsp\;</strong>9:00 am- 10:00 am -&nbsp\;Multipurpose Court</
 strong></p>\n<p>It's fun and effective\, using interval training combining
  fast and slow rhythms for an effective aerobic workout while at the same 
 time targeting your legs\, abs\, glutes and arms.&nbsp\;The workout is wat
 ch and follow. The moves are repeated often enough for you to catch on and
  they're not complicated. The routines are repeated week after week with a
 dditions every now and then to spice things up even more!&nbsp\;Zumba comb
 ines high energy and motivating music with unique moves and combinations t
 hat allow the Zumba participants to dance away their worries. It is based 
 on the principle that a workout should be 'FUN AND EASY TO DO' for Zumba p
 articipants to stick to the Zumba fitness program to achieve long-term hea
 lth benefits. Zumba is not only great for the body\, but it is also great 
 for the mind!</p>
END:VEVENT
END:VCALENDAR
