BEGIN:VCALENDAR
VERSION:2.0
PRODID:-//https://ftp.cameronstation.org//NONSGML kigkonsult.se iCalcreator 2.41.71//
CALSCALE:GREGORIAN
METHOD:PUBLISH
UID:32306534-6631-4431-b637-363132623637
X-WR-CALNAME:JCal Pro Calendar
X-WR-CALDESC:Your online events calendar
X-WR-TIMEZONE:America/New_York
BEGIN:VTIMEZONE
TZID:America/New_York
TZUNTIL:20271107T060000Z
BEGIN:STANDARD
TZNAME:EST
DTSTART:20251102T020000
TZOFFSETFROM:-0400
TZOFFSETTO:-0500
RDATE:20261101T020000
END:STANDARD
BEGIN:DAYLIGHT
TZNAME:EDT
DTSTART:20260308T020000
TZOFFSETFROM:-0500
TZOFFSETTO:-0400
RDATE:20270314T020000
END:DAYLIGHT
END:VTIMEZONE
BEGIN:VEVENT
UID:20261017T100000UTC-9681DG2iSX@https://cameronstation.org/
DTSTAMP:20260423T193320Z
CATEGORIES:CSCA Event Calendar
DESCRIPTION:<p><strong>Cameron Station Meet &amp\; Greet!</strong></p>\n<p>
 <strong>Saturday\, October 17\, 2026</strong></p>\n<p><strong>10:00 AM – 1
 2:00 PM</strong></p>\n<p><strong>Victoria Hebert Room\, Cameron Club</stro
 ng></p>\n<p><strong>More information to come!</strong></p>
DTSTART;TZID=America/New_York:20261017T100000
DTEND;TZID=America/New_York:20261017T120000
SUMMARY:Cameron Station Meet & Greet!
URL:https://ftp.cameronstation.org/calendar/68-csca-event-calendar/9303-cam
 eron-station-meet-greet
X-ALT-DESC;FMTTYPE=TEXT/HTML:<p><strong>Cameron Station Meet &amp\; Greet!<
 /strong></p>\n<p><strong>Saturday\, October 17\, 2026</strong></p>\n<p><st
 rong>10:00 AM – 12:00 PM</strong></p>\n<p><strong>Victoria Hebert Room\, C
 ameron Club</strong></p>\n<p><strong>More information to come!</strong></p
 >
END:VEVENT
END:VCALENDAR
