BEGIN:VCALENDAR
VERSION:2.0
PRODID:-//https://ftp.cameronstation.org//NONSGML kigkonsult.se iCalcreator 2.41.71//
CALSCALE:GREGORIAN
METHOD:PUBLISH
UID:63376665-6464-4136-a139-633039333533
X-WR-CALNAME:JCal Pro Calendar
X-WR-CALDESC:Your online events calendar
X-WR-TIMEZONE:America/New_York
BEGIN:VTIMEZONE
TZID:America/New_York
TZUNTIL:20271107T060000Z
BEGIN:STANDARD
TZNAME:EST
DTSTART:20251102T020000
TZOFFSETFROM:-0400
TZOFFSETTO:-0500
RDATE:20261101T020000
END:STANDARD
BEGIN:DAYLIGHT
TZNAME:EDT
DTSTART:20260308T020000
TZOFFSETFROM:-0500
TZOFFSETTO:-0400
RDATE:20270314T020000
END:DAYLIGHT
END:VTIMEZONE
BEGIN:VEVENT
UID:20240407T083000UTC-3909Tm3SD0@https://cameronstation.org/
DTSTAMP:20260423T190542Z
CATEGORIES:Advisories
DESCRIPTION:<p>Due to the conditions of the Farmers' Market Site\, the mark
 et is cancelled Sunday\, February 8\, 2026.&nbsp\;</p>\n<p>Anyone who want
 s to drop off compost\,<span>&nbsp\;the Saturday Market in Old Town ( loca
 ted at the S Fairfax side of the market ) or to Mom's Market on Mt. Vernon
  Ave in Del Ray.</span></p>
DTSTART;TZID=America/New_York:20260208T083000
DTEND;TZID=America/New_York:20260208T130000
SUMMARY:West End Farmers Market - Cancelled
URL:https://ftp.cameronstation.org/calendar/84-advisories/10332-west-end-fa
 rmers-market
X-ALT-DESC;FMTTYPE=TEXT/HTML:<p>Due to the conditions of the Farmers' Marke
 t Site\, the market is cancelled Sunday\, February 8\, 2026.&nbsp\;</p>\n<
 p>Anyone who wants to drop off compost\,<span>&nbsp\;the Saturday Market i
 n Old Town ( located at the S Fairfax side of the market ) or to Mom's Mar
 ket on Mt. Vernon Ave in Del Ray.</span></p>
END:VEVENT
END:VCALENDAR
