BEGIN:VCALENDAR
VERSION:2.0
PRODID:-//https://ftp.cameronstation.org//NONSGML kigkonsult.se iCalcreator 2.41.71//
CALSCALE:GREGORIAN
METHOD:PUBLISH
UID:32396536-3462-4339-a233-393666316434
X-WR-CALNAME:JCal Pro Calendar
X-WR-CALDESC:Your online events calendar
X-WR-TIMEZONE:America/New_York
BEGIN:VTIMEZONE
TZID:America/New_York
TZUNTIL:20271107T060000Z
BEGIN:STANDARD
TZNAME:EST
DTSTART:20251102T020000
TZOFFSETFROM:-0400
TZOFFSETTO:-0500
RDATE:20261101T020000
END:STANDARD
BEGIN:DAYLIGHT
TZNAME:EDT
DTSTART:20260308T020000
TZOFFSETFROM:-0500
TZOFFSETTO:-0400
RDATE:20270314T020000
END:DAYLIGHT
END:VTIMEZONE
BEGIN:VEVENT
UID:20250604T103000UTC-7217vxuAWv@https://cameronstation.org/
DTSTAMP:20260423T223206Z
CATEGORIES:Fitness Center
DESCRIPTION:<p>Stretch &amp\; Core (Complimentary) - Mondays and Wednesdays
  10:30 - 11:30 am -&nbsp\;Multi-Purpose Court</p>\n<p>A focused abdominal 
 &amp\; core training session using a variety of tools\, which may include 
 stability balls\, BOSU\, medicine balls\, and weights integrated with rest
 orative stretch and flexibility.</p>
DTSTART;TZID=America/New_York:20250604T103000
DTEND;TZID=America/New_York:20250604T113000
RRULE:FREQ=WEEKLY;UNTIL=20260629T040000Z;INTERVAL=1;BYDAY=MO,WE
SUMMARY:Stretch and Core
URL:https://ftp.cameronstation.org/calendar/83-fitness-center/9240-stretch-
 and-core
X-ALT-DESC;FMTTYPE=TEXT/HTML:<p>Stretch &amp\; Core (Complimentary) - Monda
 ys and Wednesdays 10:30 - 11:30 am -&nbsp\;Multi-Purpose Court</p>\n<p>A f
 ocused abdominal &amp\; core training session using a variety of tools\, w
 hich may include stability balls\, BOSU\, medicine balls\, and weights int
 egrated with restorative stretch and flexibility.</p>
END:VEVENT
BEGIN:VEVENT
UID:20250108T183000UTC-9044DSvv86@https://cameronstation.org/
DTSTAMP:20260423T223206Z
CATEGORIES:Fitness Center
DESCRIPTION:<p><strong>POMSQUAD Fitness Class Cancelled -Yoga 6:30pm - 7:30
 pm - Multi-Purpose Court</strong></p>
DTSTART;TZID=America/New_York:20251217T183000
DTEND;TZID=America/New_York:20251217T193000
SUMMARY:POMSQUAD Fitness Class - Cancelled for Yoga
URL:https://ftp.cameronstation.org/calendar/83-fitness-center/9859-pomsquad
 -fitness-class
X-ALT-DESC;FMTTYPE=TEXT/HTML:<p><strong>POMSQUAD Fitness Class Cancelled -Y
 oga 6:30pm - 7:30pm - Multi-Purpose Court</strong></p>
END:VEVENT
BEGIN:VEVENT
UID:20241218T190000UTC-4035vEkaEX@https://cameronstation.org/
DTSTAMP:20260423T223206Z
CATEGORIES:Board & Committee Meetings
DESCRIPTION:<p>The Architectural Review Committee meets virtually on the th
 ird Wednesday of the month at 7:00pm. Please&nbsp\;<span style='text-decor
 ation: underline\;'><a href='our-neighborhood/board-committees/architectur
 al-review-committee'>click&nbsp\;here</a></span>&nbsp\;for the meeting inf
 ormation.</p>
DTSTART;TZID=America/New_York:20241218T190000
DTEND;TZID=America/New_York:20241218T200000
RRULE:FREQ=MONTHLY;UNTIL=20260617T040000Z;INTERVAL=1;BYDAY=WE;BYSETPOS=3
SUMMARY:Architectural Review Committee Meeting
URL:https://ftp.cameronstation.org/calendar/68-csca-event-calendar/74-commi
 ttee-meetings/8000-architectural-review-committee-meeting
X-ALT-DESC;FMTTYPE=TEXT/HTML:<p>The Architectural Review Committee meets vi
 rtually on the third Wednesday of the month at 7:00pm. Please&nbsp\;<span 
 style='text-decoration: underline\;'><a href='our-neighborhood/board-commi
 ttees/architectural-review-committee'>click&nbsp\;here</a></span>&nbsp\;fo
 r the meeting information.</p>
END:VEVENT
END:VCALENDAR
