BEGIN:VCALENDAR
VERSION:2.0
PRODID:-//https://ftp.cameronstation.org//NONSGML kigkonsult.se iCalcreator 2.41.71//
CALSCALE:GREGORIAN
METHOD:PUBLISH
UID:37393434-6166-4364-b365-656566323165
X-WR-CALNAME:JCal Pro Calendar
X-WR-CALDESC:Your online events calendar
X-WR-TIMEZONE:America/New_York
BEGIN:VTIMEZONE
TZID:America/New_York
TZUNTIL:20271107T060000Z
BEGIN:STANDARD
TZNAME:EST
DTSTART:20251102T020000
TZOFFSETFROM:-0400
TZOFFSETTO:-0500
RDATE:20261101T020000
END:STANDARD
BEGIN:DAYLIGHT
TZNAME:EDT
DTSTART:20260308T020000
TZOFFSETFROM:-0500
TZOFFSETTO:-0400
RDATE:20270314T020000
END:DAYLIGHT
END:VTIMEZONE
BEGIN:VEVENT
UID:20250107T083000UTC-4150BGHvUo@https://cameronstation.org/
DTSTAMP:20260424T153512Z
CATEGORIES:Fitness Center
DESCRIPTION:<div><strong>Yoga II (Complimentary) -&nbsp\;Tuesdays 8:30 am -
  9:30 am - Victoria Hebert Great Room&nbsp\;</strong></div>\n<div>Yoga cla
 sses appropriate for those who want a softer\, nurturing\, slow-paced\, we
 ll-supported and relaxing practice. The approach includes carefully orches
 trated movements\, controlled pressure\, and well-measured stretches\, inc
 luding range of motion exercises. Postures may be approached in gradual st
 eps\, with plenty of time to focus on breathing and repetition so that the
  practice is simple to do and easy to remember. This yoga style encourages
  a highly individualized approach to practice with on-going encouragement 
 to make moment-to-moment adjustments.</div>
DTSTART;TZID=America/New_York:20250107T083000
DTEND;TZID=America/New_York:20250107T093000
RRULE:FREQ=WEEKLY;UNTIL=20260630T040000Z;INTERVAL=1;BYDAY=TU
SUMMARY:Yoga II
URL:https://ftp.cameronstation.org/calendar/83-fitness-center/8397-yoga-ii
X-ALT-DESC;FMTTYPE=TEXT/HTML:<div><strong>Yoga II (Complimentary) -&nbsp\;T
 uesdays 8:30 am - 9:30 am - Victoria Hebert Great Room&nbsp\;</strong></di
 v>\n<div>Yoga classes appropriate for those who want a softer\, nurturing\
 , slow-paced\, well-supported and relaxing practice. The approach includes
  carefully orchestrated movements\, controlled pressure\, and well-measure
 d stretches\, including range of motion exercises. Postures may be approac
 hed in gradual steps\, with plenty of time to focus on breathing and repet
 ition so that the practice is simple to do and easy to remember. This yoga
  style encourages a highly individualized approach to practice with on-goi
 ng encouragement to make moment-to-moment adjustments.</div>
END:VEVENT
BEGIN:VEVENT
UID:20250102T183000UTC-6828772T7c@https://cameronstation.org/
DTSTAMP:20260424T153512Z
CATEGORIES:Fitness Center
DESCRIPTION:<p>Boot Camp (Complimentary) - Tuesdays and Thursdays 6:30-7:30
 pm -&nbsp\;Multi-Purpose Court</p>
DTSTART;TZID=America/New_York:20250102T183000
DTEND;TZID=America/New_York:20250102T193000
RRULE:FREQ=WEEKLY;UNTIL=20260528T040000Z;INTERVAL=1;BYDAY=TU,TH
SUMMARY:Boot Camp
URL:https://ftp.cameronstation.org/calendar/83-fitness-center/8274-boot-cam
 p
X-ALT-DESC;FMTTYPE=TEXT/HTML:<p>Boot Camp (Complimentary) - Tuesdays and Th
 ursdays 6:30-7:30pm -&nbsp\;Multi-Purpose Court</p>
END:VEVENT
BEGIN:VEVENT
UID:20240110T190000EST-91082VG8V7@https://cameronstation.org/
DTSTAMP:20260424T153512Z
CATEGORIES:Board & Committee Meetings
DESCRIPTION:<p>The Communications Committee typically meets the second Wedn
 esday of the month at 7:00 pm\, via virtual conference. <strong>This month
 's meeting has been rescheduled for Tuesday\, July 15\, 2025\, at 7:00 pm.
 </strong> Please&nbsp\;<a href='our-neighborhood/board-committees/communic
 ations-committee'>click&nbsp\;here</a><a href='our-neighborhood/board-comm
 ittees/communications-committee'></a>&nbsp\;for meeting information.</p>
DTSTART;TZID=America/New_York:20250715T190000
DTEND;TZID=America/New_York:20250715T200000
SUMMARY:Communications Committee Meeting - Rescheduled
URL:https://ftp.cameronstation.org/calendar/68-csca-event-calendar/74-commi
 ttee-meetings/7944-communications-committee-meeting
X-ALT-DESC;FMTTYPE=TEXT/HTML:<p>The Communications Committee typically meet
 s the second Wednesday of the month at 7:00 pm\, via virtual conference. <
 strong>This month's meeting has been rescheduled for Tuesday\, July 15\, 2
 025\, at 7:00 pm.</strong> Please&nbsp\;<a href='our-neighborhood/board-co
 mmittees/communications-committee'>click&nbsp\;here</a><a href='our-neighb
 orhood/board-committees/communications-committee'></a>&nbsp\;for meeting i
 nformation.</p>
END:VEVENT
BEGIN:VEVENT
UID:20250121T190000UTC-3061EUGZWo@https://cameronstation.org/
DTSTAMP:20260424T153512Z
CATEGORIES:Condo Association
DESCRIPTION:<p>The Carlton Place Condominium Board typically meets the thir
 d Tuesday of each month at 7:00 pm\, via a hybrid virtual conference using
  Zoom and in person in the Henderson Room on the 2nd Floor of the Cameron 
 Club building. <strong>This meeting will be held virtually via Zoom.</stro
 ng> See meeting information below:&nbsp\;</p>\n<p>Join Zoom Meeting</p>\n<
 p><a href='https://us06web.zoom.us/j/83555968570?pwd=aQDWqj0O3aSGf9qF1dOED
 8bAYuEqhb.1'>https://us06web.zoom.us/j/83555968570?pwd=aQDWqj0O3aSGf9qF1dO
 ED8bAYuEqhb.1</a></p>\n<p>Meeting ID: 835 5596 8570</p>\n<p>Passcode: 7963
 20</p>
DTSTART;TZID=America/New_York:20250715T190000
DTEND;TZID=America/New_York:20250715T200000
SUMMARY:Carlton Place Condominium Virtual Board Meeting
URL:https://ftp.cameronstation.org/calendar/68-csca-event-calendar/75-condo
 -association/9082-carlton-place-condominium-board-meeting
X-ALT-DESC;FMTTYPE=TEXT/HTML:<p>The Carlton Place Condominium Board typical
 ly meets the third Tuesday of each month at 7:00 pm\, via a hybrid virtual
  conference using Zoom and in person in the Henderson Room on the 2nd Floo
 r of the Cameron Club building. <strong>This meeting will be held virtuall
 y via Zoom.</strong> See meeting information below:&nbsp\;</p>\n<p>Join Zo
 om Meeting</p>\n<p><a href='https://us06web.zoom.us/j/83555968570?pwd=aQDW
 qj0O3aSGf9qF1dOED8bAYuEqhb.1'>https://us06web.zoom.us/j/83555968570?pwd=aQ
 DWqj0O3aSGf9qF1dOED8bAYuEqhb.1</a></p>\n<p>Meeting ID: 835 5596 8570</p>\n
 <p>Passcode: 796320</p>
END:VEVENT
END:VCALENDAR
