BEGIN:VCALENDAR
VERSION:2.0
PRODID:-//https://ftp.cameronstation.org//NONSGML kigkonsult.se iCalcreator 2.41.71//
CALSCALE:GREGORIAN
METHOD:PUBLISH
UID:34376638-3663-4262-b664-353763303431
X-WR-CALNAME:JCal Pro Calendar
X-WR-CALDESC:Your online events calendar
X-WR-TIMEZONE:America/New_York
BEGIN:VTIMEZONE
TZID:America/New_York
TZUNTIL:20271107T060000Z
BEGIN:STANDARD
TZNAME:EST
DTSTART:20251102T020000
TZOFFSETFROM:-0400
TZOFFSETTO:-0500
RDATE:20261101T020000
END:STANDARD
BEGIN:DAYLIGHT
TZNAME:EDT
DTSTART:20260308T020000
TZOFFSETFROM:-0500
TZOFFSETTO:-0400
RDATE:20270314T020000
END:DAYLIGHT
END:VTIMEZONE
BEGIN:VEVENT
UID:20240902T090000UTC-4528dc0u2L@https://cameronstation.org/
DTSTAMP:20260425T102025Z
CATEGORIES:Advisories
DESCRIPTION:<p><strong>Management Office</strong></p>\n<p>The Management Of
 fice will be<strong>&nbsp\;closed</strong> Monday\, September 2\, 2024. No
 rmal hours will resume Tuesday\, September 3\, 2024\, at 9:00 am.</p>\n<p>
 <strong>&nbsp\;Cameron Club Fitness Center</strong></p>\n<p>The Cameron Cl
 ub Fitness Center will operate as normal Monday\, September 2\, 2024. All 
 fitness classes will proceed as scheduled.</p>\n<p><strong>&nbsp\;Trash/Re
 cycling</strong></p>\n<p>Bates Trucking will <strong>not</strong> be provi
 ding trash service Monday\, September 2\, 2024\, and there will be no bulk
  collection that week.&nbsp\;Trash service will resume Thursday\, Septembe
 r 5\, 2024. Bulk collection will resume Thursday\, September 12\, 2024. Al
 l other services remain unchanged.</p>\n<p><strong>Shuttle&nbsp\;Bus</stro
 ng></p>\n<p>The shuttle bus will&nbsp\;<strong>not</strong>&nbsp\;operate 
 Monday\, September 2\, 2024. Normal schedule will resume Tuesday\, Septemb
 er 3\, 2024. <span style='text-decoration: underline\;'><a href='https://w
 ww.cameronstation.org/images/Shuttle_Schedule_12-19-22.pdf' target='_blank
 ' rel='noopener noreferrer' data-link-type='web'>Click here</a></span> for
  the shuttle schedule.</p>
DTSTART;TZID=America/New_York:20240902T090000
DTEND;TZID=America/New_York:20240902T170000
SUMMARY:Labor Day - OFFICE CLOSED
URL:https://ftp.cameronstation.org/calendar/84-advisories/7177-labor-day-of
 fice-closed
X-ALT-DESC;FMTTYPE=TEXT/HTML:<p><strong>Management Office</strong></p>\n<p>
 The Management Office will be<strong>&nbsp\;closed</strong> Monday\, Septe
 mber 2\, 2024. Normal hours will resume Tuesday\, September 3\, 2024\, at 
 9:00 am.</p>\n<p><strong>&nbsp\;Cameron Club Fitness Center</strong></p>\n
 <p>The Cameron Club Fitness Center will operate as normal Monday\, Septemb
 er 2\, 2024. All fitness classes will proceed as scheduled.</p>\n<p><stron
 g>&nbsp\;Trash/Recycling</strong></p>\n<p>Bates Trucking will <strong>not<
 /strong> be providing trash service Monday\, September 2\, 2024\, and ther
 e will be no bulk collection that week.&nbsp\;Trash service will resume Th
 ursday\, September 5\, 2024. Bulk collection will resume Thursday\, Septem
 ber 12\, 2024. All other services remain unchanged.</p>\n<p><strong>Shuttl
 e&nbsp\;Bus</strong></p>\n<p>The shuttle bus will&nbsp\;<strong>not</stron
 g>&nbsp\;operate Monday\, September 2\, 2024. Normal schedule will resume 
 Tuesday\, September 3\, 2024. <span style='text-decoration: underline\;'><
 a href='https://www.cameronstation.org/images/Shuttle_Schedule_12-19-22.pd
 f' target='_blank' rel='noopener noreferrer' data-link-type='web'>Click he
 re</a></span> for the shuttle schedule.</p>
END:VEVENT
BEGIN:VEVENT
UID:20240101T103000EST-9139VSI28m@https://cameronstation.org/
DTSTAMP:20260425T102025Z
CATEGORIES:Fitness Center
DESCRIPTION:<p>Stretch &amp\; Core (Complimentary) - Mondays and Wednesdays
  10:30 - 11:30 am -&nbsp\;Multi-Purpose Court</p>\n<p>A focused abdominal 
 &amp\; core training session using a variety of tools\, which may include 
 stability balls\, BOSU\, medicine balls\, and weights integrated with rest
 orative stretch and flexibility.</p>
DTSTART;TZID=America/New_York:20240101T103000
DTEND;TZID=America/New_York:20240101T113000
RRULE:FREQ=WEEKLY;UNTIL=20250604T040000Z;INTERVAL=1;BYDAY=MO,WE
SUMMARY:Stretch and Core
URL:https://ftp.cameronstation.org/calendar/83-fitness-center/6103-stretch-
 and-core
X-ALT-DESC;FMTTYPE=TEXT/HTML:<p>Stretch &amp\; Core (Complimentary) - Monda
 ys and Wednesdays 10:30 - 11:30 am -&nbsp\;Multi-Purpose Court</p>\n<p>A f
 ocused abdominal &amp\; core training session using a variety of tools\, w
 hich may include stability balls\, BOSU\, medicine balls\, and weights int
 egrated with restorative stretch and flexibility.</p>
END:VEVENT
BEGIN:VEVENT
UID:20230731T183000EDT-4459GCVdkP@https://cameronstation.org/
DTSTAMP:20260425T102025Z
CATEGORIES:Fitness Center
DESCRIPTION:<p><b>Please note there will be no Vinyasa Yoga class on Monday
 \, Spetember 2\, 2024.&nbsp\;</b></p>
DTSTART;TZID=America/New_York:20240902T183000
DTEND;TZID=America/New_York:20240902T193000
SUMMARY:Vinyasa Flow Yoga - Cancelled
URL:https://ftp.cameronstation.org/calendar/83-fitness-center/5924-vinyasa-
 flow-yoga
X-ALT-DESC;FMTTYPE=TEXT/HTML:<p><b>Please note there will be no Vinyasa Yog
 a class on Monday\, Spetember 2\, 2024.&nbsp\;</b></p>
END:VEVENT
END:VCALENDAR
