BEGIN:VCALENDAR
VERSION:2.0
PRODID:-//https://ftp.cameronstation.org//NONSGML kigkonsult.se iCalcreator 2.41.71//
CALSCALE:GREGORIAN
METHOD:PUBLISH
UID:34316238-3030-4364-a134-366238303439
X-WR-CALNAME:JCal Pro Calendar
X-WR-CALDESC:Your online events calendar
X-WR-TIMEZONE:America/New_York
BEGIN:VTIMEZONE
TZID:America/New_York
TZUNTIL:20271107T060000Z
BEGIN:STANDARD
TZNAME:EST
DTSTART:20251102T020000
TZOFFSETFROM:-0400
TZOFFSETTO:-0500
RDATE:20261101T020000
END:STANDARD
BEGIN:DAYLIGHT
TZNAME:EDT
DTSTART:20260308T020000
TZOFFSETFROM:-0500
TZOFFSETTO:-0400
RDATE:20270314T020000
END:DAYLIGHT
END:VTIMEZONE
BEGIN:VEVENT
UID:20240812T090000UTC-0401wJ4KSl@https://cameronstation.org/
DTSTAMP:20260425T115159Z
CATEGORIES:Advisories
DESCRIPTION:<p>Comprehensive inspections for Cameron Station are underway. 
 Management would like to help by alerting residents to several common issu
 es frequently found that may trigger violation notices.&nbsp\;<a href='htt
 ps://files.constantcontact.com/54aef372401/44286ddb-924e-4f0a-a42c-b528439
 d0426.pdf?rdr=true' target='_blank' rel='noopener noreferrer'>Click here</
 a>&nbsp\;for a list of these common issues.&nbsp\;Please see the streets t
 o be inspected and upcoming inspection dates\, below:</p>\n<p><strong>Stre
 ets:&nbsp\; &nbsp\; &nbsp\; &nbsp\; &nbsp\; &nbsp\; &nbsp\; &nbsp\; &nbsp\
 ; &nbsp\; &nbsp\; &nbsp\; &nbsp\; &nbsp\; &nbsp\; &nbsp\; &nbsp\; &nbsp\; 
 &nbsp\; &nbsp\; &nbsp\; &nbsp\; &nbsp\; &nbsp\; &nbsp\; &nbsp\; &nbsp\; Da
 tes:</strong></p>\n<p>California Lane &amp\; English Terrace&nbsp\; &nbsp\
 ; &nbsp\; &nbsp\; &nbsp\; August 12 - 16\, 2024</p>
DTSTART;TZID=America/New_York:20240812T090000
DTEND;TZID=America/New_York:20240816T170000
SUMMARY:Covenants Inspections: California Lane & English Terrace
URL:https://ftp.cameronstation.org/calendar/84-advisories/7320-covenants-in
 spections-california-lane-english-terrace
X-ALT-DESC;FMTTYPE=TEXT/HTML:<p>Comprehensive inspections for Cameron Stati
 on are underway. Management would like to help by alerting residents to se
 veral common issues frequently found that may trigger violation notices.&n
 bsp\;<a href='https://files.constantcontact.com/54aef372401/44286ddb-924e-
 4f0a-a42c-b528439d0426.pdf?rdr=true' target='_blank' rel='noopener norefer
 rer'>Click here</a>&nbsp\;for a list of these common issues.&nbsp\;Please 
 see the streets to be inspected and upcoming inspection dates\, below:</p>
 \n<p><strong>Streets:&nbsp\; &nbsp\; &nbsp\; &nbsp\; &nbsp\; &nbsp\; &nbsp
 \; &nbsp\; &nbsp\; &nbsp\; &nbsp\; &nbsp\; &nbsp\; &nbsp\; &nbsp\; &nbsp\;
  &nbsp\; &nbsp\; &nbsp\; &nbsp\; &nbsp\; &nbsp\; &nbsp\; &nbsp\; &nbsp\; &
 nbsp\; &nbsp\; Dates:</strong></p>\n<p>California Lane &amp\; English Terr
 ace&nbsp\; &nbsp\; &nbsp\; &nbsp\; &nbsp\; August 12 - 16\, 2024</p>
END:VEVENT
BEGIN:VEVENT
UID:20240111T090000EST-1255mmJndU@https://cameronstation.org/
DTSTAMP:20260425T115159Z
CATEGORIES:Fitness Center
DESCRIPTION:<p>Gentle Yoga (Complimentary) - Thursdays 9:00 - 10:00 am - Vi
 ctoria Hebert Great Room</p>\n<p>Gentle yoga classes are typically describ
 ed as appropriate for those who want a softer\, nurturing\, slow-paced\, w
 ell-supported and relaxing practice. The approach includes carefully orche
 strated movements\, controlled pressure\, and well-measured stretches\, in
 cluding range of motion exercises. Postures may be approached in gradual s
 teps\, with plenty of time to focus on breathing and repetition so that th
 e practice is simple to do and easy to remember. A gentle yoga style encou
 rages a highly individualized approach to practice with on-going encourage
 ment to make moment-to-moment adjustments.</p>
DTSTART;TZID=America/New_York:20240111T090000
DTEND;TZID=America/New_York:20240111T100000
RRULE:FREQ=WEEKLY;UNTIL=20241226T050000Z;INTERVAL=1;BYDAY=TH
SUMMARY:Gentle Yoga
URL:https://ftp.cameronstation.org/calendar/83-fitness-center/6341-gentle-y
 oga
X-ALT-DESC;FMTTYPE=TEXT/HTML:<p>Gentle Yoga (Complimentary) - Thursdays 9:0
 0 - 10:00 am - Victoria Hebert Great Room</p>\n<p>Gentle yoga classes are 
 typically described as appropriate for those who want a softer\, nurturing
 \, slow-paced\, well-supported and relaxing practice. The approach include
 s carefully orchestrated movements\, controlled pressure\, and well-measur
 ed stretches\, including range of motion exercises. Postures may be approa
 ched in gradual steps\, with plenty of time to focus on breathing and repe
 tition so that the practice is simple to do and easy to remember. A gentle
  yoga style encourages a highly individualized approach to practice with o
 n-going encouragement to make moment-to-moment adjustments.</p>
END:VEVENT
BEGIN:VEVENT
UID:20240102T183000EST-1816jvzRrC@https://cameronstation.org/
DTSTAMP:20260425T115159Z
CATEGORIES:Fitness Center
DESCRIPTION:<p>Boot Camp (Complimentary) - Tuesdays and Thursdays 6:30-7:30
 pm -&nbsp\;Multi-Purpose Court</p>
DTSTART;TZID=America/New_York:20240102T183000
DTEND;TZID=America/New_York:20240102T193000
RRULE:FREQ=WEEKLY;UNTIL=20241226T050000Z;INTERVAL=1;BYDAY=TU,TH
SUMMARY:Boot Camp
URL:https://ftp.cameronstation.org/calendar/83-fitness-center/6392-boot-cam
 p
X-ALT-DESC;FMTTYPE=TEXT/HTML:<p>Boot Camp (Complimentary) - Tuesdays and Th
 ursdays 6:30-7:30pm -&nbsp\;Multi-Purpose Court</p>
END:VEVENT
END:VCALENDAR
