BEGIN:VCALENDAR
VERSION:2.0
PRODID:-//https://ftp.cameronstation.org//NONSGML kigkonsult.se iCalcreator 2.41.71//
CALSCALE:GREGORIAN
METHOD:PUBLISH
UID:62616665-6565-4234-a266-303064373066
X-WR-CALNAME:JCal Pro Calendar
X-WR-CALDESC:Your online events calendar
X-WR-TIMEZONE:America/New_York
BEGIN:VTIMEZONE
TZID:America/New_York
TZUNTIL:20271107T060000Z
BEGIN:STANDARD
TZNAME:EST
DTSTART:20251102T020000
TZOFFSETFROM:-0400
TZOFFSETTO:-0500
RDATE:20261101T020000
END:STANDARD
BEGIN:DAYLIGHT
TZNAME:EDT
DTSTART:20260308T020000
TZOFFSETFROM:-0500
TZOFFSETTO:-0400
RDATE:20270314T020000
END:DAYLIGHT
END:VTIMEZONE
BEGIN:VEVENT
UID:20240704T210000UTC-6114T7Aklj@https://cameronstation.org/
DTSTAMP:20260425T131731Z
CATEGORIES:Advisories
DESCRIPTION:<p><strong>ASSOCIATION HOLIDAY HOURS - Independence Holiday</st
 rong></p>\n<p><strong>Onsite Management Office Holiday Hours</strong></p>
 \n<p>The office will be&nbsp\;<strong>closed&nbsp\;on Thursday\, July 4\, 
 and Friday\, July 5\, 2024</strong>\, in observance of the Independence Da
 y holiday. Normal hours will resume on Monday\, July 8\, 2024\, at 9:00 am
 .</p>\n<p><strong>Cameron Club Holiday Hours</strong></p>\n<p>The Cameron 
 Club will operate&nbsp\;<strong>as normal</strong>&nbsp\;on Thursday\, Jul
 y 4\, 2024.</p>\n<p><strong>Shuttle Schedule</strong></p>\n<p>The shuttle 
 will&nbsp\;<strong>not</strong>&nbsp\;operate on Thursday\, July 4\, 2024.
 &nbsp\;Service will resume on Friday\, July 5\, 2024.&nbsp\;<span style='t
 ext-decoration: underline\;'><a href='https://nam04.safelinks.protection.o
 utlook.com/?url=https%3A%2F%2Ffiles.constantcontact.com%2F54aef372401%2F41
 60b368-9abe-484e-90b6-c425126df7b1.pdf%3Frdr%3Dtrue&amp\;data=05%7C01%7Cjm
 ichel%40gocampmgmt.com%7Cc1c08e06f09345c625ea08db6d9f911e%7Cca12f77d06a94c
 3b91bde66b6992fabb%7C0%7C1%7C638224304360376762%7CUnknown%7CTWFpbGZsb3d8ey
 JWIjoiMC4wLjAwMDAiLCJQIjoiV2luMzIiLCJBTiI6Ik1haWwiLCJXVCI6Mn0%3D%7C3000%7C
 %7C%7C&amp\;sdata=iHlyachVRv7OqLa%2BCoECrrojD%2Bpq2WTPpUJ2irOTc7A%3D&amp\;
 reserved=0'>Click&nbsp\;here</a></span>&nbsp\;for the current schedule.</p
 >\n<p><strong>Trash/Recycling Services</strong></p>\n<p>There will be <str
 ong>no Trash\, Recycle\, or Bulk collection Thursday\, July 4\, 2024</stro
 ng>. Bates Trucking will resume your normal collection schedule beginning 
 Monday\, July 8\, 2024.&nbsp\;</p>
DTSTART;TZID=America/New_York:20240704T090000
DTEND;TZID=America/New_York:20240705T170000
SUMMARY:Independence Day - OFFICE CLOSED
URL:https://ftp.cameronstation.org/calendar/84-advisories/7170-independence
 -day-office-closed
X-ALT-DESC;FMTTYPE=TEXT/HTML:<p><strong>ASSOCIATION HOLIDAY HOURS - Indepen
 dence Holiday</strong></p>\n<p><strong>Onsite Management Office Holiday Ho
 urs</strong></p>\n<p>The office will be&nbsp\;<strong>closed&nbsp\;on Thur
 sday\, July 4\, and Friday\, July 5\, 2024</strong>\, in observance of the
  Independence Day holiday. Normal hours will resume on Monday\, July 8\, 2
 024\, at 9:00 am.</p>\n<p><strong>Cameron Club Holiday Hours</strong></p>
 \n<p>The Cameron Club will operate&nbsp\;<strong>as normal</strong>&nbsp\;
 on Thursday\, July 4\, 2024.</p>\n<p><strong>Shuttle Schedule</strong></p>
 \n<p>The shuttle will&nbsp\;<strong>not</strong>&nbsp\;operate on Thursday
 \, July 4\, 2024.&nbsp\;Service will resume on Friday\, July 5\, 2024.&nbs
 p\;<span style='text-decoration: underline\;'><a href='https://nam04.safel
 inks.protection.outlook.com/?url=https%3A%2F%2Ffiles.constantcontact.com%2
 F54aef372401%2F4160b368-9abe-484e-90b6-c425126df7b1.pdf%3Frdr%3Dtrue&amp\;
 data=05%7C01%7Cjmichel%40gocampmgmt.com%7Cc1c08e06f09345c625ea08db6d9f911e
 %7Cca12f77d06a94c3b91bde66b6992fabb%7C0%7C1%7C638224304360376762%7CUnknown
 %7CTWFpbGZsb3d8eyJWIjoiMC4wLjAwMDAiLCJQIjoiV2luMzIiLCJBTiI6Ik1haWwiLCJXVCI
 6Mn0%3D%7C3000%7C%7C%7C&amp\;sdata=iHlyachVRv7OqLa%2BCoECrrojD%2Bpq2WTPpUJ
 2irOTc7A%3D&amp\;reserved=0'>Click&nbsp\;here</a></span>&nbsp\;for the cur
 rent schedule.</p>\n<p><strong>Trash/Recycling Services</strong></p>\n<p>T
 here will be <strong>no Trash\, Recycle\, or Bulk collection Thursday\, Ju
 ly 4\, 2024</strong>. Bates Trucking will resume your normal collection sc
 hedule beginning Monday\, July 8\, 2024.&nbsp\;</p>
END:VEVENT
BEGIN:VEVENT
UID:20240105T103000EST-5387ExJvfj@https://cameronstation.org/
DTSTAMP:20260425T131731Z
CATEGORIES:Fitness Center
DESCRIPTION:<div class='doclink'><strong>Total Body Weights&nbsp\;(Complime
 ntary) - Fridays 10:30am-11:30am - Multi-Purpose Court</strong></div>\n<di
 v class='doclink'>Weight training is the best way to increase your metabol
 ism and burn calories while toning and firming. Whether you are a beginner
  or experienced\, this is a class tailored to women and teaching the lates
 t strength training techniques and workouts.</div>
DTSTART;TZID=America/New_York:20240105T103000
DTEND;TZID=America/New_York:20240105T113000
RRULE:FREQ=WEEKLY;UNTIL=20241227T050000Z;INTERVAL=1;BYDAY=FR
SUMMARY:Total Body Weights
URL:https://ftp.cameronstation.org/calendar/83-fitness-center/6496-total-bo
 dy-weights
X-ALT-DESC;FMTTYPE=TEXT/HTML:<div class='doclink'><strong>Total Body Weight
 s&nbsp\;(Complimentary) - Fridays 10:30am-11:30am - Multi-Purpose Court</s
 trong></div>\n<div class='doclink'>Weight training is the best way to incr
 ease your metabolism and burn calories while toning and firming. Whether y
 ou are a beginner or experienced\, this is a class tailored to women and t
 eaching the latest strength training techniques and workouts.</div>
END:VEVENT
END:VCALENDAR
