BEGIN:VCALENDAR
VERSION:2.0
PRODID:-//https://ftp.cameronstation.org//NONSGML kigkonsult.se iCalcreator 2.41.71//
CALSCALE:GREGORIAN
METHOD:PUBLISH
UID:66353363-6232-4464-a130-323763656366
X-WR-CALNAME:JCal Pro Calendar
X-WR-CALDESC:Your online events calendar
X-WR-TIMEZONE:America/New_York
BEGIN:VTIMEZONE
TZID:America/New_York
TZUNTIL:20271107T060000Z
BEGIN:STANDARD
TZNAME:EST
DTSTART:20251102T020000
TZOFFSETFROM:-0400
TZOFFSETTO:-0500
RDATE:20261101T020000
END:STANDARD
BEGIN:DAYLIGHT
TZNAME:EDT
DTSTART:20260308T020000
TZOFFSETFROM:-0500
TZOFFSETTO:-0400
RDATE:20270314T020000
END:DAYLIGHT
END:VTIMEZONE
BEGIN:VEVENT
UID:20240601T090000UTC-7237anAUFB@https://cameronstation.org/
DTSTAMP:20260425T150436Z
CATEGORIES:Fitness Center
DESCRIPTION:<p><strong>Please note there will be no Aqua Aerobics class thi
 s Saturday\, June 15\, 2024. Class will resume next Saturday\, June 22\, 2
 024.</strong></p>\n<p>Residents are encouraged to join the Zumba class\, i
 nside the Cameron Club at the Multipurpose Court\, from 9:00 to 10:00 am.&
 nbsp\;</p>
DTSTART;TZID=America/New_York:20240615T090000
DTEND;TZID=America/New_York:20240615T100000
SUMMARY:Aqua Aerobics - Canceled
URL:https://ftp.cameronstation.org/calendar/83-fitness-center/6999-aqua-aer
 obics
X-ALT-DESC;FMTTYPE=TEXT/HTML:<p><strong>Please note there will be no Aqua A
 erobics class this Saturday\, June 15\, 2024. Class will resume next Satur
 day\, June 22\, 2024.</strong></p>\n<p>Residents are encouraged to join th
 e Zumba class\, inside the Cameron Club at the Multipurpose Court\, from 9
 :00 to 10:00 am.&nbsp\;</p>
END:VEVENT
END:VCALENDAR
