BEGIN:VCALENDAR
VERSION:2.0
PRODID:-//https://ftp.cameronstation.org//NONSGML kigkonsult.se iCalcreator 2.41.71//
CALSCALE:GREGORIAN
METHOD:PUBLISH
UID:62656566-3139-4565-a239-663563373161
X-WR-CALNAME:JCal Pro Calendar
X-WR-CALDESC:Your online events calendar
X-WR-TIMEZONE:America/New_York
BEGIN:VTIMEZONE
TZID:America/New_York
TZUNTIL:20271107T060000Z
BEGIN:STANDARD
TZNAME:EST
DTSTART:20251102T020000
TZOFFSETFROM:-0400
TZOFFSETTO:-0500
RDATE:20261101T020000
END:STANDARD
BEGIN:DAYLIGHT
TZNAME:EDT
DTSTART:20260308T020000
TZOFFSETFROM:-0500
TZOFFSETTO:-0400
RDATE:20270314T020000
END:DAYLIGHT
END:VTIMEZONE
BEGIN:VEVENT
UID:20240525T103000UTC-6722PKpstK@https://cameronstation.org/
DTSTAMP:20260425T163434Z
CATEGORIES:Fitness Center
DESCRIPTION:<p>The Cameron Station Pool officially opens on Saturday\, May 
 25\, 2024&nbsp\;at 10:30 am! <span style='text-decoration: underline\;'><a
  href='about/neighborhood-amenities/pool'>Click here</a></span> for more i
 nformation!&nbsp\;</p>
DTSTART;TZID=America/New_York:20240525T103000
DTEND;TZID=America/New_York:20240525T203000
SUMMARY:Pool Opening Day 2024!
URL:https://ftp.cameronstation.org/calendar/83-fitness-center/7096-pool-ope
 ning-day-2024
X-ALT-DESC;FMTTYPE=TEXT/HTML:<p>The Cameron Station Pool officially opens o
 n Saturday\, May 25\, 2024&nbsp\;at 10:30 am! <span style='text-decoration
 : underline\;'><a href='about/neighborhood-amenities/pool'>Click here</a><
 /span> for more information!&nbsp\;</p>
END:VEVENT
END:VCALENDAR
