BEGIN:VCALENDAR
VERSION:2.0
PRODID:-//https://ftp.cameronstation.org//NONSGML kigkonsult.se iCalcreator 2.41.71//
CALSCALE:GREGORIAN
METHOD:PUBLISH
UID:38636534-6361-4239-b666-623230643435
X-WR-CALNAME:JCal Pro Calendar
X-WR-CALDESC:Your online events calendar
X-WR-TIMEZONE:America/New_York
BEGIN:VTIMEZONE
TZID:America/New_York
TZUNTIL:20271107T060000Z
BEGIN:STANDARD
TZNAME:EST
DTSTART:20251102T020000
TZOFFSETFROM:-0400
TZOFFSETTO:-0500
RDATE:20261101T020000
END:STANDARD
BEGIN:DAYLIGHT
TZNAME:EDT
DTSTART:20260308T020000
TZOFFSETFROM:-0500
TZOFFSETTO:-0400
RDATE:20270314T020000
END:DAYLIGHT
END:VTIMEZONE
BEGIN:VEVENT
UID:20250122T110000UTC-5789ijVSiG@https://cameronstation.org/
DTSTAMP:20260425T023724Z
CATEGORIES:Local Events
DESCRIPTION:<p><strong>This event has been rescheduled to Wednesday\, Febru
 ary 12\, 2025.&nbsp\;</strong></p>\n<p>&nbsp\;</p>
DTSTART;TZID=America/New_York:20250122T160000
DTEND;TZID=America/New_York:20250122T200000
SUMMARY:Tucker Restaurant Night - Cancelled!
URL:https://ftp.cameronstation.org/calendar/86-local-events/9014-tucker-res
 taurant-night
X-ALT-DESC;FMTTYPE=TEXT/HTML:<p><strong>This event has been rescheduled to 
 Wednesday\, February 12\, 2025.&nbsp\;</strong></p>\n<p>&nbsp\;</p>
END:VEVENT
END:VCALENDAR
