BEGIN:VCALENDAR
VERSION:2.0
PRODID:-//https://ftp.cameronstation.org//NONSGML kigkonsult.se iCalcreator 2.41.71//
CALSCALE:GREGORIAN
METHOD:PUBLISH
UID:35643437-3937-4133-b863-666661333733
X-WR-CALNAME:JCal Pro Calendar
X-WR-CALDESC:Your online events calendar
X-WR-TIMEZONE:America/New_York
BEGIN:VTIMEZONE
TZID:America/New_York
TZUNTIL:20271107T060000Z
BEGIN:STANDARD
TZNAME:EST
DTSTART:20251102T020000
TZOFFSETFROM:-0400
TZOFFSETTO:-0500
RDATE:20261101T020000
END:STANDARD
BEGIN:DAYLIGHT
TZNAME:EDT
DTSTART:20260308T020000
TZOFFSETFROM:-0500
TZOFFSETTO:-0400
RDATE:20270314T020000
END:DAYLIGHT
END:VTIMEZONE
BEGIN:VEVENT
UID:20251206T110000UTC-0251xtLI5P@https://cameronstation.org/
DTSTAMP:20260423T223552Z
CATEGORIES:Local Events
DESCRIPTION:<p>Bring your new or gently used toys for ages 0-17 and take ho
 me a new-to-you treasure! Toys will be arranged in 0-6\, 7-12\, and 13+ ar
 eas! Don't have toys to donate but want to take something home\, that's ok
 ay! Want to donate but won't be coming to the swap? A toy donation box wil
 l be available at Beatley Central Library starting Saturday\, November 29\
 , 2025. <a href='https://alexlibraryva.org/event/14910384' target='_blank'
  rel='noopener noreferrer' data-link-type='web'>Click here</a> for more in
 formation.</p>\n<p>This program was created and organized by Alexandria Te
 en Volunteers. For more information on volunteering\, <a href='https://ale
 xlibraryva.org/volunteer' target='_blank' rel='noopener noreferrer' data-l
 ink-type='web'>click&nbsp\;here</a>.</p>\n<p>&nbsp\;</p>
DTSTART;TZID=America/New_York:20251206T110000
DTEND;TZID=America/New_York:20251206T130000
SUMMARY:Beatley Library 2nd Annual Toy Swap!
URL:https://ftp.cameronstation.org/calendar/86-local-events/10059-beatley-l
 ibrary-2nd-annual-toy-swap
X-ALT-DESC;FMTTYPE=TEXT/HTML:<p>Bring your new or gently used toys for ages
  0-17 and take home a new-to-you treasure! Toys will be arranged in 0-6\, 
 7-12\, and 13+ areas! Don't have toys to donate but want to take something
  home\, that's okay! Want to donate but won't be coming to the swap? A toy
  donation box will be available at Beatley Central Library starting Saturd
 ay\, November 29\, 2025. <a href='https://alexlibraryva.org/event/14910384
 ' target='_blank' rel='noopener noreferrer' data-link-type='web'>Click her
 e</a> for more information.</p>\n<p>This program was created and organized
  by Alexandria Teen Volunteers. For more information on volunteering\, <a 
 href='https://alexlibraryva.org/volunteer' target='_blank' rel='noopener n
 oreferrer' data-link-type='web'>click&nbsp\;here</a>.</p>\n<p>&nbsp\;</p>
END:VEVENT
END:VCALENDAR
