BEGIN:VCALENDAR
VERSION:2.0
PRODID:-//https://ftp.cameronstation.org//NONSGML kigkonsult.se iCalcreator 2.41.71//
CALSCALE:GREGORIAN
METHOD:PUBLISH
UID:63616433-6235-4538-b938-613165386435
X-WR-CALNAME:JCal Pro Calendar
X-WR-CALDESC:Your online events calendar
X-WR-TIMEZONE:America/New_York
BEGIN:VTIMEZONE
TZID:America/New_York
TZUNTIL:20271107T060000Z
BEGIN:STANDARD
TZNAME:EST
DTSTART:20251102T020000
TZOFFSETFROM:-0400
TZOFFSETTO:-0500
RDATE:20261101T020000
END:STANDARD
BEGIN:DAYLIGHT
TZNAME:EDT
DTSTART:20260308T020000
TZOFFSETFROM:-0500
TZOFFSETTO:-0400
RDATE:20270314T020000
END:DAYLIGHT
END:VTIMEZONE
BEGIN:VEVENT
UID:20251111T090000UTC-4518VxrXnZ@https://cameronstation.org/
DTSTAMP:20260424T002100Z
CATEGORIES:Advisories
DESCRIPTION:<p><span data-olk-copy-source='MessageBody'>Cameron Station Man
 agement Office Hours -</span></p>\n<ul>\n<li>The Management Office will be
 &nbsp\;closed Tuesday\, November 11\, 2025\, in observance of&nbsp\;<span 
 class='markk7k2va0ig' data-markjs='true'>Veteran</span>'s Day.&nbsp\;Norma
 l hours will resume on Wednesday\, November 12\, 2025\, at 9:00 am.</li>\n
 </ul>\n<p>Cameron Club Holiday Hours -</p>\n<ul>\n<li>The Cameron Club/Fit
 ness Center will be&nbsp\;open during normal hours Tuesday\, November 11\,
  2025.</li>\n</ul>\n<p>Trash Schedule -</p>\n<ul>\n<li>Bates Trucking will
  provide&nbsp\;normal trash services&nbsp\;Monday\, November 10\, 2025.&nb
 sp\;</li>\n</ul>\n<p>Shuttle Bus Schedule&nbsp\;-</p>\n<ul>\n<li>The shutt
 le bus will&nbsp\;not&nbsp\;operate Tuesday\, November 11\, 2025.&nbsp\;Sh
 uttle service will resume on Wednesday\, November 12\, 2025. <a href='abou
 t/neighborhood-amenities/shuttle-bus'>Click here</a>&nbsp\;for the shuttle
  bus schedule.</li>\n</ul>
DTSTART;TZID=America/New_York:20251111T090000
DTEND;TZID=America/New_York:20251111T100000
SUMMARY:Veteran's Day: Office Closed!
URL:https://ftp.cameronstation.org/calendar/84-advisories/9314-veterans-day
 -office-closed
X-ALT-DESC;FMTTYPE=TEXT/HTML:<p><span data-olk-copy-source='MessageBody'>Ca
 meron Station Management Office Hours -</span></p>\n<ul>\n<li>The Manageme
 nt Office will be&nbsp\;closed Tuesday\, November 11\, 2025\, in observanc
 e of&nbsp\;<span class='markk7k2va0ig' data-markjs='true'>Veteran</span>'s
  Day.&nbsp\;Normal hours will resume on Wednesday\, November 12\, 2025\, a
 t 9:00 am.</li>\n</ul>\n<p>Cameron Club Holiday Hours -</p>\n<ul>\n<li>The
  Cameron Club/Fitness Center will be&nbsp\;open during normal hours Tuesda
 y\, November 11\, 2025.</li>\n</ul>\n<p>Trash Schedule -</p>\n<ul>\n<li>Ba
 tes Trucking will provide&nbsp\;normal trash services&nbsp\;Monday\, Novem
 ber 10\, 2025.&nbsp\;</li>\n</ul>\n<p>Shuttle Bus Schedule&nbsp\;-</p>\n<u
 l>\n<li>The shuttle bus will&nbsp\;not&nbsp\;operate Tuesday\, November 11
 \, 2025.&nbsp\;Shuttle service will resume on Wednesday\, November 12\, 20
 25. <a href='about/neighborhood-amenities/shuttle-bus'>Click here</a>&nbsp
 \;for the shuttle bus schedule.</li>\n</ul>
END:VEVENT
END:VCALENDAR
