BEGIN:VCALENDAR
VERSION:2.0
PRODID:-//https://ftp.cameronstation.org//NONSGML kigkonsult.se iCalcreator 2.41.71//
CALSCALE:GREGORIAN
METHOD:PUBLISH
UID:66643531-3730-4563-a636-626265616364
X-WR-CALNAME:JCal Pro Calendar
X-WR-CALDESC:Your online events calendar
X-WR-TIMEZONE:America/New_York
BEGIN:VTIMEZONE
TZID:America/New_York
TZUNTIL:20271107T060000Z
BEGIN:STANDARD
TZNAME:EST
DTSTART:20251102T020000
TZOFFSETFROM:-0400
TZOFFSETTO:-0500
RDATE:20261101T020000
END:STANDARD
BEGIN:DAYLIGHT
TZNAME:EDT
DTSTART:20260308T020000
TZOFFSETFROM:-0500
TZOFFSETTO:-0400
RDATE:20270314T020000
END:DAYLIGHT
END:VTIMEZONE
BEGIN:VEVENT
UID:20251031T090000UTC-5023vHMWnE@https://cameronstation.org/
DTSTAMP:20260424T015426Z
CATEGORIES:Advisories
DTSTART;TZID=America/New_York:20251031T090000
DTEND;TZID=America/New_York:20251031T160000
SUMMARY:ARC Application Due Date for 11/19 Meeting
URL:https://ftp.cameronstation.org/calendar/84-advisories/9311-arc-applicat
 ion-due-date-for-11-19-meeting
END:VEVENT
END:VCALENDAR
