BEGIN:VCALENDAR
VERSION:2.0
PRODID:-//https://ftp.cameronstation.org//NONSGML kigkonsult.se iCalcreator 2.41.71//
CALSCALE:GREGORIAN
METHOD:PUBLISH
UID:34656232-3833-4437-a431-383963613639
X-WR-CALNAME:JCal Pro Calendar
X-WR-CALDESC:Your online events calendar
X-WR-TIMEZONE:America/New_York
BEGIN:VTIMEZONE
TZID:America/New_York
TZUNTIL:20271107T060000Z
BEGIN:STANDARD
TZNAME:EST
DTSTART:20251102T020000
TZOFFSETFROM:-0400
TZOFFSETTO:-0500
RDATE:20261101T020000
END:STANDARD
BEGIN:DAYLIGHT
TZNAME:EDT
DTSTART:20260308T020000
TZOFFSETFROM:-0500
TZOFFSETTO:-0400
RDATE:20270314T020000
END:DAYLIGHT
END:VTIMEZONE
BEGIN:VEVENT
UID:20251013T090000UTC-1178u8H66j@https://cameronstation.org/
DTSTAMP:20260424T015405Z
CATEGORIES:Advisories
DESCRIPTION:<p><strong>Cameron Station Management Office Hours -</strong></
 p>\n<ul>\n<li>The Management Office will be closed Monday\, October 13\, 2
 054\, in observance of Indigenous Peoples Day.&nbsp\;Normal hours will res
 ume Tuesday\, October 14\, 2025\, at 9:00 am.</li>\n</ul>\n<p><strong>&nbs
 p\;Cameron Club Holiday Hours -</strong></p>\n<ul>\n<li>The Cameron Club/F
 itness Center will be open during normal hours Monday\, October 13\, 2025.
 </li>\n</ul>\n<p><strong>Trash Schedule -</strong></p>\n<ul>\n<li>Bates Tr
 ucking will provide&nbsp\;normal trash services&nbsp\;Monday\, October 13\
 , 2025.&nbsp\;</li>\n</ul>\n<p><strong>&nbsp\;Shuttle Bus Schedule&nbsp\;-
 </strong></p>\n<ul>\n<li>The shuttle bus will&nbsp\;not&nbsp\;operate Mond
 ay\, October 13\, 2025.&nbsp\;Shuttle service will resume on Tuesday\, Oct
 ober 14\, 2025.&nbsp\;<span style='text-decoration: underline\;'><a href='
 https://files.constantcontact.com/54aef372401/4160b368-9abe-484e-90b6-c425
 126df7b1.pdf?rdr=true_gl=1*1d3uzgh*_gcl_au*MTA3NzYwMjQwLjE3MjgwNDY4MjI.*_g
 a*OTEwZWE3NzEtNWM0YS00ODEwLTkzM2MtN2JiY2NhOTQ0YTEw*_ga_14T5LGLSQ3*MTcyODUw
 MjUxMi4xNy4xLjE3Mjg1MDM2NjQuNDAuMC4w' target='_blank' rel='noopener norefe
 rrer'>Click here</a></span>&nbsp\;for the shuttle bus schedule.</li>\n</ul
 >
DTSTART;TZID=America/New_York:20251013T000000
DTEND;TZID=America/New_York:20251013T235959
SUMMARY:Indigenous Peoples Day - Office Closed
URL:https://ftp.cameronstation.org/calendar/84-advisories/9305-indigenous-p
 eoples-day-office-closed
X-ALT-DESC;FMTTYPE=TEXT/HTML:<p><strong>Cameron Station Management Office H
 ours -</strong></p>\n<ul>\n<li>The Management Office will be closed Monday
 \, October 13\, 2054\, in observance of Indigenous Peoples Day.&nbsp\;Norm
 al hours will resume Tuesday\, October 14\, 2025\, at 9:00 am.</li>\n</ul>
 \n<p><strong>&nbsp\;Cameron Club Holiday Hours -</strong></p>\n<ul>\n<li>T
 he Cameron Club/Fitness Center will be open during normal hours Monday\, O
 ctober 13\, 2025.</li>\n</ul>\n<p><strong>Trash Schedule -</strong></p>\n<
 ul>\n<li>Bates Trucking will provide&nbsp\;normal trash services&nbsp\;Mon
 day\, October 13\, 2025.&nbsp\;</li>\n</ul>\n<p><strong>&nbsp\;Shuttle Bus
  Schedule&nbsp\;-</strong></p>\n<ul>\n<li>The shuttle bus will&nbsp\;not&n
 bsp\;operate Monday\, October 13\, 2025.&nbsp\;Shuttle service will resume
  on Tuesday\, October 14\, 2025.&nbsp\;<span style='text-decoration: under
 line\;'><a href='https://files.constantcontact.com/54aef372401/4160b368-9a
 be-484e-90b6-c425126df7b1.pdf?rdr=true_gl=1*1d3uzgh*_gcl_au*MTA3NzYwMjQwLj
 E3MjgwNDY4MjI.*_ga*OTEwZWE3NzEtNWM0YS00ODEwLTkzM2MtN2JiY2NhOTQ0YTEw*_ga_14
 T5LGLSQ3*MTcyODUwMjUxMi4xNy4xLjE3Mjg1MDM2NjQuNDAuMC4w' target='_blank' rel
 ='noopener noreferrer'>Click here</a></span>&nbsp\;for the shuttle bus sch
 edule.</li>\n</ul>
END:VEVENT
END:VCALENDAR
