BEGIN:VCALENDAR
VERSION:2.0
PRODID:-//https://ftp.cameronstation.org//NONSGML kigkonsult.se iCalcreator 2.41.71//
CALSCALE:GREGORIAN
METHOD:PUBLISH
UID:32643131-3461-4630-b766-323634323636
X-WR-CALNAME:JCal Pro Calendar
X-WR-CALDESC:Your online events calendar
X-WR-TIMEZONE:America/New_York
BEGIN:VTIMEZONE
TZID:America/New_York
TZUNTIL:20271107T060000Z
BEGIN:STANDARD
TZNAME:EST
DTSTART:20251102T020000
TZOFFSETFROM:-0400
TZOFFSETTO:-0500
RDATE:20261101T020000
END:STANDARD
BEGIN:DAYLIGHT
TZNAME:EDT
DTSTART:20260308T020000
TZOFFSETFROM:-0500
TZOFFSETTO:-0400
RDATE:20270314T020000
END:DAYLIGHT
END:VTIMEZONE
BEGIN:VEVENT
UID:20251104T060000UTC-09715dLc7u@https://cameronstation.org/
DTSTAMP:20260424T001459Z
CATEGORIES:Advisories
DESCRIPTION:<p><strong>General Election Polling Place Information: Tuesday\
 , November 4\, 2025</strong></p>\n<p>The Cameron Club is a polling place f
 or the General Election on Tuesday\, November 4\, 2025\, beginning at 6:00
  am. Please see below for guidelines provided by the Election Office:</p>
 \n<p>Time:&nbsp\;6:00 am to 7:00 pm</p>\n<p>Location:&nbsp\;Cameron Club\,
  Victoria Hebert Great Room</p>\n<p>Entry:&nbsp\;200 Cameron Station\, Fit
 ness Center entrance</p>\n<p>Exit:&nbsp\;Side exit within the Great Room</
 p>\n<p>&nbsp\;</p>\n<p>Signs will be posted throughout the Cameron Club to
  show entry and exit. Volunteers will be on site to guide and assist with 
 parking.</p>
DTSTART;TZID=America/New_York:20251104T060000
DTEND;TZID=America/New_York:20251104T190000
SUMMARY:General Election Polling Place
URL:https://ftp.cameronstation.org/calendar/84-advisories/9235-general-elec
 tion-polling-place
X-ALT-DESC;FMTTYPE=TEXT/HTML:<p><strong>General Election Polling Place Info
 rmation: Tuesday\, November 4\, 2025</strong></p>\n<p>The Cameron Club is 
 a polling place for the General Election on Tuesday\, November 4\, 2025\, 
 beginning at 6:00 am. Please see below for guidelines provided by the Elec
 tion Office:</p>\n<p>Time:&nbsp\;6:00 am to 7:00 pm</p>\n<p>Location:&nbsp
 \;Cameron Club\, Victoria Hebert Great Room</p>\n<p>Entry:&nbsp\;200 Camer
 on Station\, Fitness Center entrance</p>\n<p>Exit:&nbsp\;Side exit within 
 the Great Room</p>\n<p>&nbsp\;</p>\n<p>Signs will be posted throughout the
  Cameron Club to show entry and exit. Volunteers will be on site to guide 
 and assist with parking.</p>
END:VEVENT
END:VCALENDAR
