BEGIN:VCALENDAR
VERSION:2.0
PRODID:-//https://ftp.cameronstation.org//NONSGML kigkonsult.se iCalcreator 2.41.71//
CALSCALE:GREGORIAN
METHOD:PUBLISH
UID:34303738-3765-4138-a430-306238396335
X-WR-CALNAME:JCal Pro Calendar
X-WR-CALDESC:Your online events calendar
X-WR-TIMEZONE:America/New_York
BEGIN:VTIMEZONE
TZID:America/New_York
TZUNTIL:20271107T060000Z
BEGIN:STANDARD
TZNAME:EST
DTSTART:20251102T020000
TZOFFSETFROM:-0400
TZOFFSETTO:-0500
RDATE:20261101T020000
END:STANDARD
BEGIN:DAYLIGHT
TZNAME:EDT
DTSTART:20260308T020000
TZOFFSETFROM:-0500
TZOFFSETTO:-0400
RDATE:20270314T020000
END:DAYLIGHT
END:VTIMEZONE
BEGIN:VEVENT
UID:20241226T110000UTC-8734kPnSXb@https://cameronstation.org/
DTSTAMP:20260425T024523Z
CATEGORIES:Advisories
DESCRIPTION:<p><strong>Fitness Center Closed - New Year's Day</strong></p>
 \n<ul>\n<li>The Fitness Center<strong>&nbsp\;will be closed Wednesday\, Ja
 nuary 1\, 2025</strong>\, in observance of the New Year. The Fitness Cente
 r will resume normal hours Thursday\, January 2\, 2025\, at 4:45 am.</li>
 \n</ul>
DTSTART;TZID=America/New_York:20250101T000000
DTEND;TZID=America/New_York:20250101T235959
SUMMARY:New Year's Day - Fitness Center Closed
URL:https://ftp.cameronstation.org/calendar/84-advisories/8021-new-years-da
 y-fitness-center-closed
X-ALT-DESC;FMTTYPE=TEXT/HTML:<p><strong>Fitness Center Closed - New Year's 
 Day</strong></p>\n<ul>\n<li>The Fitness Center<strong>&nbsp\;will be close
 d Wednesday\, January 1\, 2025</strong>\, in observance of the New Year. T
 he Fitness Center will resume normal hours Thursday\, January 2\, 2025\, a
 t 4:45 am.</li>\n</ul>
END:VEVENT
END:VCALENDAR
