BEGIN:VCALENDAR
VERSION:2.0
PRODID:-//https://ftp.cameronstation.org//NONSGML kigkonsult.se iCalcreator 2.41.71//
CALSCALE:GREGORIAN
METHOD:PUBLISH
UID:34383064-3937-4765-a534-666630643637
X-WR-CALNAME:JCal Pro Calendar
X-WR-CALDESC:Your online events calendar
X-WR-TIMEZONE:America/New_York
BEGIN:VTIMEZONE
TZID:America/New_York
TZUNTIL:20271107T060000Z
BEGIN:STANDARD
TZNAME:EST
DTSTART:20251102T020000
TZOFFSETFROM:-0400
TZOFFSETTO:-0500
RDATE:20261101T020000
END:STANDARD
BEGIN:DAYLIGHT
TZNAME:EDT
DTSTART:20260308T020000
TZOFFSETFROM:-0500
TZOFFSETTO:-0400
RDATE:20270314T020000
END:DAYLIGHT
END:VTIMEZONE
BEGIN:VEVENT
UID:20241219T090000UTC-8934EeTpub@https://cameronstation.org/
DTSTAMP:20260425T035957Z
CATEGORIES:Advisories
DESCRIPTION:<p>The December leaf removal will begin&nbsp\;Thursday\, Decemb
 er 19\, 2024\, and continue through Friday\, December 20\, 2024\, weather 
 permitting.&nbsp\;Please&nbsp\;see attached&nbsp\;<span style='text-decora
 tion: underline\;'><a href='https://files.constantcontact.com/54aef372401/
 b73ee57e-55c0-4005-bff1-07ab02dce5a8.pdf' target='_blank' rel='noopener no
 referrer' data-link-type='document'>map</a></span>&nbsp\;for the&nbsp\;dat
 e your street is expected&nbsp\;to have leaves picked up.&nbsp\;All dates 
 are subject to change based on weather conditions and/or community needs.<
 /p>
DTSTART;TZID=America/New_York:20241219T000000
DTEND;TZID=America/New_York:20241219T235959
SUMMARY:December 2024 Leaf Removal
URL:https://ftp.cameronstation.org/calendar/84-advisories/8015-december-202
 4-leaf-removal
X-ALT-DESC;FMTTYPE=TEXT/HTML:<p>The December leaf removal will begin&nbsp\;
 Thursday\, December 19\, 2024\, and continue through Friday\, December 20\
 , 2024\, weather permitting.&nbsp\;Please&nbsp\;see attached&nbsp\;<span s
 tyle='text-decoration: underline\;'><a href='https://files.constantcontact
 .com/54aef372401/b73ee57e-55c0-4005-bff1-07ab02dce5a8.pdf' target='_blank'
  rel='noopener noreferrer' data-link-type='document'>map</a></span>&nbsp\;
 for the&nbsp\;date your street is expected&nbsp\;to have leaves picked up.
 &nbsp\;All dates are subject to change based on weather conditions and/or 
 community needs.</p>
END:VEVENT
END:VCALENDAR
