BEGIN:VCALENDAR
VERSION:2.0
PRODID:-//https://ftp.cameronstation.org//NONSGML kigkonsult.se iCalcreator 2.41.71//
CALSCALE:GREGORIAN
METHOD:PUBLISH
UID:39613532-3736-4135-b737-623938623766
X-WR-CALNAME:JCal Pro Calendar
X-WR-CALDESC:Your online events calendar
X-WR-TIMEZONE:America/New_York
BEGIN:VTIMEZONE
TZID:America/New_York
TZUNTIL:20271107T060000Z
BEGIN:STANDARD
TZNAME:EST
DTSTART:20251102T020000
TZOFFSETFROM:-0400
TZOFFSETTO:-0500
RDATE:20261101T020000
END:STANDARD
BEGIN:DAYLIGHT
TZNAME:EDT
DTSTART:20260308T020000
TZOFFSETFROM:-0500
TZOFFSETTO:-0400
RDATE:20270314T020000
END:DAYLIGHT
END:VTIMEZONE
BEGIN:VEVENT
UID:20241204T120000UTC-5853HsUivU@https://cameronstation.org/
DTSTAMP:20260425T035958Z
CATEGORIES:Advisories
DESCRIPTION:<p>Please be advised that the Management Office will be closed 
 on Wednesday\, December 4\, 2024\, for a company event. We will resume nor
 mal office&nbsp\;hours on Thursday\, December 5\, 2024\, at 9:00 am.</p>
DTSTART;TZID=America/New_York:20241204T000000
DTEND;TZID=America/New_York:20241204T235959
SUMMARY:Management Office Closed
URL:https://ftp.cameronstation.org/calendar/84-advisories/7925-management-o
 ffice-closed
X-ALT-DESC;FMTTYPE=TEXT/HTML:<p>Please be advised that the Management Offic
 e will be closed on Wednesday\, December 4\, 2024\, for a company event. W
 e will resume normal office&nbsp\;hours on Thursday\, December 5\, 2024\, 
 at 9:00 am.</p>
END:VEVENT
END:VCALENDAR
