BEGIN:VCALENDAR
VERSION:2.0
PRODID:-//https://ftp.cameronstation.org//NONSGML kigkonsult.se iCalcreator 2.41.71//
CALSCALE:GREGORIAN
METHOD:PUBLISH
UID:34666130-6130-4762-b364-323738313331
X-WR-CALNAME:JCal Pro Calendar
X-WR-CALDESC:Your online events calendar
X-WR-TIMEZONE:America/New_York
BEGIN:VTIMEZONE
TZID:America/New_York
TZUNTIL:20271107T060000Z
BEGIN:STANDARD
TZNAME:EST
DTSTART:20251102T020000
TZOFFSETFROM:-0400
TZOFFSETTO:-0500
RDATE:20261101T020000
END:STANDARD
BEGIN:DAYLIGHT
TZNAME:EDT
DTSTART:20260308T020000
TZOFFSETFROM:-0500
TZOFFSETTO:-0400
RDATE:20270314T020000
END:DAYLIGHT
END:VTIMEZONE
BEGIN:VEVENT
UID:20240624T090000UTC-4022JNR2LA@https://cameronstation.org/
DTSTAMP:20260425T131912Z
CATEGORIES:Advisories
DESCRIPTION:<p>TruGreen will apply for the lawn&nbsp\;care application for 
 Cameron Station on Monday\, June 24\, 2024. (weather permitting).&nbsp\; S
 ignage has been posted onsite <strong>prior</strong>&nbsp\;to&nbsp\;applic
 ation&nbsp\;and will reamin once application&nbsp\;has occurred.&nbsp\; &n
 bsp\;MSDS sheets will be emailed upon request.&nbsp\;&nbsp\;</p>
DTSTART;TZID=America/New_York:20240624T090000
DTEND;TZID=America/New_York:20240624T100000
SUMMARY:Lawn Care Application
URL:https://ftp.cameronstation.org/calendar/84-advisories/7271-lawn-care-ap
 plication
X-ALT-DESC;FMTTYPE=TEXT/HTML:<p>TruGreen will apply for the lawn&nbsp\;care
  application for Cameron Station on Monday\, June 24\, 2024. (weather perm
 itting).&nbsp\; Signage has been posted onsite <strong>prior</strong>&nbsp
 \;to&nbsp\;application&nbsp\;and will reamin once application&nbsp\;has oc
 curred.&nbsp\; &nbsp\;MSDS sheets will be emailed upon request.&nbsp\;&nbs
 p\;</p>
END:VEVENT
END:VCALENDAR
