BEGIN:VCALENDAR
VERSION:2.0
PRODID:-//https://ftp.cameronstation.org//NONSGML kigkonsult.se iCalcreator 2.41.71//
CALSCALE:GREGORIAN
METHOD:PUBLISH
UID:63643538-6265-4563-a230-366132636161
X-WR-CALNAME:JCal Pro Calendar
X-WR-CALDESC:Your online events calendar
X-WR-TIMEZONE:America/New_York
BEGIN:VTIMEZONE
TZID:America/New_York
TZUNTIL:20271107T060000Z
BEGIN:STANDARD
TZNAME:EST
DTSTART:20251102T020000
TZOFFSETFROM:-0400
TZOFFSETTO:-0500
RDATE:20261101T020000
END:STANDARD
BEGIN:DAYLIGHT
TZNAME:EDT
DTSTART:20260308T020000
TZOFFSETFROM:-0500
TZOFFSETTO:-0400
RDATE:20270314T020000
END:DAYLIGHT
END:VTIMEZONE
BEGIN:VEVENT
UID:20240619T090000UTC-8352Ku9C1O@https://cameronstation.org/
DTSTAMP:20260425T131914Z
CATEGORIES:Advisories
DESCRIPTION:<p><span style='color: #ff0000\;'><strong>ASSOCIATION HOLIDAY H
 OURS - Juneteenth Holiday</strong></span></p>\n<p><strong>Cameron Club Hol
 iday Hours</strong></p>\n<p>The Cameron Club and Managerment Office will o
 perate <strong>as normal</strong>&nbsp\; Wednesday\, June 19\, 2024.</p>\n
 <p><strong>Shuttle Schedule</strong></p>\n<p>The shuttle will <strong>not<
 /strong> operate on Wednesday\, June 19\, 2024.&nbsp\;</p>\n<p>Service wil
 l resume Thursday\, June 20\, 2024.&nbsp\;<a href='https://nam04.safelinks
 .protection.outlook.com/?url=https%3A%2F%2Ffiles.constantcontact.com%2F54a
 ef372401%2F4160b368-9abe-484e-90b6-c425126df7b1.pdf%3Frdr%3Dtrue&amp\;data
 =05%7C01%7Cjmichel%40gocampmgmt.com%7Cc1c08e06f09345c625ea08db6d9f911e%7Cc
 a12f77d06a94c3b91bde66b6992fabb%7C0%7C1%7C638224304360376762%7CUnknown%7CT
 WFpbGZsb3d8eyJWIjoiMC4wLjAwMDAiLCJQIjoiV2luMzIiLCJBTiI6Ik1haWwiLCJXVCI6Mn0
 %3D%7C3000%7C%7C%7C&amp\;sdata=iHlyachVRv7OqLa%2BCoECrrojD%2Bpq2WTPpUJ2irO
 Tc7A%3D&amp\;reserved=0'>Click <span style='text-decoration: underline\;'>
 here</span></a>&nbsp\;for the current schedule.</p>\n<p><strong>Normal Tra
 sh Services </strong></p>\n<p>Trash services will operate <strong>as norma
 l</strong>&nbsp\;Thursday\, June 20\, 2024. Please be sure to have your bi
 ns out on Wednesday night.</p>
DTSTART;TZID=America/New_York:20240619T090000
DTEND;TZID=America/New_York:20240619T090000
SUMMARY:Juneteenth Holiday
URL:https://ftp.cameronstation.org/calendar/84-advisories/7100-juneteenth-h
 oliday
X-ALT-DESC;FMTTYPE=TEXT/HTML:<p><span style='color: #ff0000\;'><strong>ASSO
 CIATION HOLIDAY HOURS - Juneteenth Holiday</strong></span></p>\n<p><strong
 >Cameron Club Holiday Hours</strong></p>\n<p>The Cameron Club and Managerm
 ent Office will operate <strong>as normal</strong>&nbsp\; Wednesday\, June
  19\, 2024.</p>\n<p><strong>Shuttle Schedule</strong></p>\n<p>The shuttle 
 will <strong>not</strong> operate on Wednesday\, June 19\, 2024.&nbsp\;</p
 >\n<p>Service will resume Thursday\, June 20\, 2024.&nbsp\;<a href='https:
 //nam04.safelinks.protection.outlook.com/?url=https%3A%2F%2Ffiles.constant
 contact.com%2F54aef372401%2F4160b368-9abe-484e-90b6-c425126df7b1.pdf%3Frdr
 %3Dtrue&amp\;data=05%7C01%7Cjmichel%40gocampmgmt.com%7Cc1c08e06f09345c625e
 a08db6d9f911e%7Cca12f77d06a94c3b91bde66b6992fabb%7C0%7C1%7C638224304360376
 762%7CUnknown%7CTWFpbGZsb3d8eyJWIjoiMC4wLjAwMDAiLCJQIjoiV2luMzIiLCJBTiI6Ik
 1haWwiLCJXVCI6Mn0%3D%7C3000%7C%7C%7C&amp\;sdata=iHlyachVRv7OqLa%2BCoECrroj
 D%2Bpq2WTPpUJ2irOTc7A%3D&amp\;reserved=0'>Click <span style='text-decorati
 on: underline\;'>here</span></a>&nbsp\;for the current schedule.</p>\n<p><
 strong>Normal Trash Services </strong></p>\n<p>Trash services will operate
  <strong>as normal</strong>&nbsp\;Thursday\, June 20\, 2024. Please be sur
 e to have your bins out on Wednesday night.</p>
END:VEVENT
END:VCALENDAR
