BEGIN:VCALENDAR
VERSION:2.0
PRODID:-//https://ftp.cameronstation.org//NONSGML kigkonsult.se iCalcreator 2.41.71//
CALSCALE:GREGORIAN
METHOD:PUBLISH
UID:63623536-6636-4636-b334-336635316663
X-WR-CALNAME:JCal Pro Calendar
X-WR-CALDESC:Your online events calendar
X-WR-TIMEZONE:America/New_York
BEGIN:VTIMEZONE
TZID:America/New_York
TZUNTIL:20271107T060000Z
BEGIN:STANDARD
TZNAME:EST
DTSTART:20251102T020000
TZOFFSETFROM:-0400
TZOFFSETTO:-0500
RDATE:20261101T020000
END:STANDARD
BEGIN:DAYLIGHT
TZNAME:EDT
DTSTART:20260308T020000
TZOFFSETFROM:-0500
TZOFFSETTO:-0400
RDATE:20270314T020000
END:DAYLIGHT
END:VTIMEZONE
BEGIN:VEVENT
UID:20260421T060000UTC-1215GeH11p@https://cameronstation.org/
DTSTAMP:20260423T155109Z
CATEGORIES:Advisories
DESCRIPTION:<p><strong>Special Election Polling Place - Tuesday\, April 21\
 , 2026</strong></p>\n<p><span>The Cameron Club is a polling place for a Sp
 ecial Election on Tuesday\, April 21\,<span>&nbsp\;2026.&nbsp\;<span>ontes
 ts include a City Council Special Election (the Order for the Special Elec
 tion is available&nbsp\;</span><a href='https://www.alexandriava.gov/sites
 /default/files/2026-02/Special%20Election%20Order%202.23.26.pdf' target='_
 blank' rel='noopener noreferrer' data-link-type='web'>here</a><span>) and 
 a Statewide Proposed Constitutional Amendment (information available&nbsp\
 ;</span><a href='https://www.elections.virginia.gov/casting-a-ballot/upcom
 ing-elections.html' target='_blank' rel='noopener noreferrer' data-link-ty
 pe='web'>here</a><span>). Please see Polling Place information below:</spa
 n></span></span></p>\n<p><span>Time:</span><span>&nbsp\;6:00 am to 7:00 pm
 </span></p>\n<p><span>Location:</span><span>&nbsp\;Cameron Club\, Victoria
  Hebert Great Room</span></p>\n<p><span>Entry:&nbsp\;</span><span>200 Came
 ron Station\, Fitness Center entrance</span></p>\n<p><span>Exit:</span><sp
 an>&nbsp\;Side exit within the Great Room</span></p>\n<p><span>Signs will 
 be posted throughout the Cameron Club to show entry and exit. Volunteers w
 ill be on site to guide and assist with parking.</span></p>\n<p><strong>Du
 e to the use of the Great Room for the Polling Place\, the Tuesday Yoga Cl
 ass will be held in the Multipurpose Court\, at 8:30 am. </strong></p>
DTSTART;TZID=America/New_York:20260421T060000
DTEND;TZID=America/New_York:20260421T190000
SUMMARY:Special Election Polling Place
URL:https://ftp.cameronstation.org/calendar/84-advisories/10499-special-ele
 ction-polling-place
X-ALT-DESC;FMTTYPE=TEXT/HTML:<p><strong>Special Election Polling Place - Tu
 esday\, April 21\, 2026</strong></p>\n<p><span>The Cameron Club is a polli
 ng place for a Special Election on Tuesday\, April 21\,<span>&nbsp\;2026.&
 nbsp\;<span>ontests include a City Council Special Election (the Order for
  the Special Election is available&nbsp\;</span><a href='https://www.alexa
 ndriava.gov/sites/default/files/2026-02/Special%20Election%20Order%202.23.
 26.pdf' target='_blank' rel='noopener noreferrer' data-link-type='web'>her
 e</a><span>) and a Statewide Proposed Constitutional Amendment (informatio
 n available&nbsp\;</span><a href='https://www.elections.virginia.gov/casti
 ng-a-ballot/upcoming-elections.html' target='_blank' rel='noopener norefer
 rer' data-link-type='web'>here</a><span>). Please see Polling Place inform
 ation below:</span></span></span></p>\n<p><span>Time:</span><span>&nbsp\;6
 :00 am to 7:00 pm</span></p>\n<p><span>Location:</span><span>&nbsp\;Camero
 n Club\, Victoria Hebert Great Room</span></p>\n<p><span>Entry:&nbsp\;</sp
 an><span>200 Cameron Station\, Fitness Center entrance</span></p>\n<p><spa
 n>Exit:</span><span>&nbsp\;Side exit within the Great Room</span></p>\n<p>
 <span>Signs will be posted throughout the Cameron Club to show entry and e
 xit. Volunteers will be on site to guide and assist with parking.</span></
 p>\n<p><strong>Due to the use of the Great Room for the Polling Place\, th
 e Tuesday Yoga Class will be held in the Multipurpose Court\, at 8:30 am. 
 </strong></p>
END:VEVENT
END:VCALENDAR
