BEGIN:VCALENDAR
VERSION:2.0
PRODID:-//https://ftp.cameronstation.org//NONSGML kigkonsult.se iCalcreator 2.41.71//
CALSCALE:GREGORIAN
METHOD:PUBLISH
UID:35336463-3939-4361-b961-313037313530
X-WR-CALNAME:JCal Pro Calendar
X-WR-CALDESC:Your online events calendar
X-WR-TIMEZONE:America/New_York
BEGIN:VTIMEZONE
TZID:America/New_York
TZUNTIL:20271107T060000Z
BEGIN:STANDARD
TZNAME:EST
DTSTART:20251102T020000
TZOFFSETFROM:-0400
TZOFFSETTO:-0500
RDATE:20261101T020000
END:STANDARD
BEGIN:DAYLIGHT
TZNAME:EDT
DTSTART:20260308T020000
TZOFFSETFROM:-0500
TZOFFSETTO:-0400
RDATE:20270314T020000
END:DAYLIGHT
END:VTIMEZONE
BEGIN:VEVENT
UID:20260405T070000UTC-5813GHglN0@https://cameronstation.org/
DTSTAMP:20260423T155109Z
CATEGORIES:Advisories
DESCRIPTION:<p><span>Cameron Cafe will be closed Sunday\, 4/5/2026 and Sund
 ay\, 4/12/2026.</span></p>
DTSTART;TZID=America/New_York:20260405T070000
DTEND;TZID=America/New_York:20260405T080000
RRULE:FREQ=WEEKLY;UNTIL=20260412T040000Z;INTERVAL=1;BYDAY=SU
SUMMARY:Cameron Cafe Closed
URL:https://ftp.cameronstation.org/calendar/84-advisories/10457-cameron-caf
 e-closed
X-ALT-DESC;FMTTYPE=TEXT/HTML:<p><span>Cameron Cafe will be closed Sunday\, 
 4/5/2026 and Sunday\, 4/12/2026.</span></p>
END:VEVENT
END:VCALENDAR
