BEGIN:VCALENDAR
VERSION:2.0
PRODID:-//https://ftp.cameronstation.org//NONSGML kigkonsult.se iCalcreator 2.41.71//
CALSCALE:GREGORIAN
METHOD:PUBLISH
UID:38336432-3032-4338-b038-323365346538
X-WR-CALNAME:JCal Pro Calendar
X-WR-CALDESC:Your online events calendar
X-WR-TIMEZONE:America/New_York
BEGIN:VTIMEZONE
TZID:America/New_York
TZUNTIL:20271107T060000Z
BEGIN:STANDARD
TZNAME:EST
DTSTART:20251102T020000
TZOFFSETFROM:-0400
TZOFFSETTO:-0500
RDATE:20261101T020000
END:STANDARD
BEGIN:DAYLIGHT
TZNAME:EDT
DTSTART:20260308T020000
TZOFFSETFROM:-0500
TZOFFSETTO:-0400
RDATE:20270314T020000
END:DAYLIGHT
END:VTIMEZONE
BEGIN:VEVENT
UID:20260125T100000UTC-7381oeAR7T@https://cameronstation.org/
DTSTAMP:20260423T205141Z
CATEGORIES:Advisories
DESCRIPTION:<p><strong>Cameron Club Closed Sunday &amp\; Monday</strong></p
 >\n<p><strong>The Cameron Club will be closed on Sunday\, January 25\, and
  Monday\, January 26\, 2026</strong>. We will notify residents of Tuesday'
 s hours in advance.&nbsp\;</p>
DTSTART;TZID=America/New_York:20260125T000000
DTEND;TZID=America/New_York:20260125T235959
SUMMARY:Cameron Club Closed - Inclement Weather
URL:https://ftp.cameronstation.org/calendar/84-advisories/10396-cameron-clu
 b-closed-inclement-weather
X-ALT-DESC;FMTTYPE=TEXT/HTML:<p><strong>Cameron Club Closed Sunday &amp\; M
 onday</strong></p>\n<p><strong>The Cameron Club will be closed on Sunday\,
  January 25\, and Monday\, January 26\, 2026</strong>. We will notify resi
 dents of Tuesday's hours in advance.&nbsp\;</p>
END:VEVENT
END:VCALENDAR
