BEGIN:VCALENDAR
VERSION:2.0
PRODID:-//https://ftp.cameronstation.org//NONSGML kigkonsult.se iCalcreator 2.41.71//
CALSCALE:GREGORIAN
METHOD:PUBLISH
UID:63336664-3536-4463-a634-316534336362
X-WR-CALNAME:JCal Pro Calendar
X-WR-CALDESC:Your online events calendar
X-WR-TIMEZONE:America/New_York
BEGIN:VTIMEZONE
TZID:America/New_York
TZUNTIL:20271107T060000Z
BEGIN:STANDARD
TZNAME:EST
DTSTART:20251102T020000
TZOFFSETFROM:-0400
TZOFFSETTO:-0500
RDATE:20261101T020000
END:STANDARD
BEGIN:DAYLIGHT
TZNAME:EDT
DTSTART:20260308T020000
TZOFFSETFROM:-0500
TZOFFSETTO:-0400
RDATE:20270314T020000
END:DAYLIGHT
END:VTIMEZONE
BEGIN:VEVENT
UID:20251224T090000UTC-1514sv6AvF@https://cameronstation.org/
DTSTAMP:20260423T223541Z
CATEGORIES:Advisories
DESCRIPTION:<p>Cameron Station Management Office Hours</p>\n<p>The Manageme
 nt Office will be closed Wednesday\, December 24\, 2025\, through Friday\,
  December 26\, 2025\, in observance of the Christmas holiday. Normal hours
  will resume Monday\, December 29\, 2025\, at 9:00 am.</p>\n<p>Cameron Clu
 b Holiday Hours</p>\n<p>The Cameron Club/Fitness Center will close at 4:00
  pm Wednesday\, December 24\, 2025\, and will be closed Thursday\, Decembe
 r 25\, 2025\, in observance of the Christmas holiday. Normal hours will re
 sume on Friday\, December 26\, 2025.</p>\n<p>Trash Schedule</p>\n<p>There 
 will be no trash\, recycling OR bulk collection on Thursday\, December 25\
 , 2025. Trash/Recycling services will take place the following day\, Frida
 y\, December 26\, 2025.</p>\n<p>&nbsp\;</p>\n<p>Shuttle Bus Schedule&nbsp\
 ;</p>\n<p>The shuttle bus will not operate on Thursday\, December 25\, 202
 5. Shuttle bus service will resume on Friday\, December 26\, 2025.&nbsp\;<
 a href='https://files.constantcontact.com/54aef372401/4160b368-9abe-484e-9
 0b6-c425126df7b1.pdf?rdr=true_gl=1*1d3uzgh*_gcl_au*MTA3NzYwMjQwLjE3MjgwNDY
 4MjI.*_ga*OTEwZWE3NzEtNWM0YS00ODEwLTkzM2MtN2JiY2NhOTQ0YTEw*_ga_14T5LGLSQ3*
 MTcyODUwMjUxMi4xNy4xLjE3Mjg1MDM2NjQuNDAuMC4w' target='_blank' rel='noopene
 r noreferrer'>Click here</a>&nbsp\;for the shuttle bus schedule.</p>
DTSTART;TZID=America/New_York:20251224T000000
DTEND;TZID=America/New_York:20251224T235959
SUMMARY:Management Office Closed
URL:https://ftp.cameronstation.org/calendar/84-advisories/10064-management-
 office-closed
X-ALT-DESC;FMTTYPE=TEXT/HTML:<p>Cameron Station Management Office Hours</p>
 \n<p>The Management Office will be closed Wednesday\, December 24\, 2025\,
  through Friday\, December 26\, 2025\, in observance of the Christmas holi
 day. Normal hours will resume Monday\, December 29\, 2025\, at 9:00 am.</p
 >\n<p>Cameron Club Holiday Hours</p>\n<p>The Cameron Club/Fitness Center w
 ill close at 4:00 pm Wednesday\, December 24\, 2025\, and will be closed T
 hursday\, December 25\, 2025\, in observance of the Christmas holiday. Nor
 mal hours will resume on Friday\, December 26\, 2025.</p>\n<p>Trash Schedu
 le</p>\n<p>There will be no trash\, recycling OR bulk collection on Thursd
 ay\, December 25\, 2025. Trash/Recycling services will take place the foll
 owing day\, Friday\, December 26\, 2025.</p>\n<p>&nbsp\;</p>\n<p>Shuttle B
 us Schedule&nbsp\;</p>\n<p>The shuttle bus will not operate on Thursday\, 
 December 25\, 2025. Shuttle bus service will resume on Friday\, December 2
 6\, 2025.&nbsp\;<a href='https://files.constantcontact.com/54aef372401/416
 0b368-9abe-484e-90b6-c425126df7b1.pdf?rdr=true_gl=1*1d3uzgh*_gcl_au*MTA3Nz
 YwMjQwLjE3MjgwNDY4MjI.*_ga*OTEwZWE3NzEtNWM0YS00ODEwLTkzM2MtN2JiY2NhOTQ0YTE
 w*_ga_14T5LGLSQ3*MTcyODUwMjUxMi4xNy4xLjE3Mjg1MDM2NjQuNDAuMC4w' target='_bl
 ank' rel='noopener noreferrer'>Click here</a>&nbsp\;for the shuttle bus sc
 hedule.</p>
END:VEVENT
END:VCALENDAR
