BEGIN:VCALENDAR
VERSION:2.0
PRODID:-//https://ftp.cameronstation.org//NONSGML kigkonsult.se iCalcreator 2.41.71//
CALSCALE:GREGORIAN
METHOD:PUBLISH
UID:33643062-6363-4761-a337-336439656635
X-WR-CALNAME:JCal Pro Calendar
X-WR-CALDESC:Your online events calendar
X-WR-TIMEZONE:America/New_York
BEGIN:VTIMEZONE
TZID:America/New_York
TZUNTIL:20271107T060000Z
BEGIN:STANDARD
TZNAME:EST
DTSTART:20251102T020000
TZOFFSETFROM:-0400
TZOFFSETTO:-0500
RDATE:20261101T020000
END:STANDARD
BEGIN:DAYLIGHT
TZNAME:EDT
DTSTART:20260308T020000
TZOFFSETFROM:-0500
TZOFFSETTO:-0400
RDATE:20270314T020000
END:DAYLIGHT
END:VTIMEZONE
BEGIN:VEVENT
UID:20251211T090000UTC-7603VBtmiG@https://cameronstation.org/
DTSTAMP:20260423T223432Z
CATEGORIES:Advisories
DESCRIPTION:<p>The Management Office will be closed on Thursday\, December 
 11\, 2025\, due to a Staff Event.</p>\n<p>Normal business hours will resum
 e on Friday\, December 12\, 2025\,&nbsp\;at 9:00 am.</p>
DTSTART;TZID=America/New_York:20251211T090000
DTEND;TZID=America/New_York:20251211T090000
SUMMARY:Management Office Closed December 11\, 2025
URL:https://ftp.cameronstation.org/calendar/84-advisories/10062-management-
 office-closed-december-11-2025
X-ALT-DESC;FMTTYPE=TEXT/HTML:<p>The Management Office will be closed on Thu
 rsday\, December 11\, 2025\, due to a Staff Event.</p>\n<p>Normal business
  hours will resume on Friday\, December 12\, 2025\,&nbsp\;at 9:00 am.</p>
END:VEVENT
END:VCALENDAR
