BEGIN:VCALENDAR
VERSION:2.0
PRODID:-//https://ftp.cameronstation.org//NONSGML kigkonsult.se iCalcreator 2.41.71//
CALSCALE:GREGORIAN
METHOD:PUBLISH
UID:30376534-3638-4039-a433-343935353431
X-WR-CALNAME:JCal Pro Calendar
X-WR-CALDESC:Your online events calendar
X-WR-TIMEZONE:America/New_York
BEGIN:VTIMEZONE
TZID:America/New_York
TZUNTIL:20271107T060000Z
BEGIN:STANDARD
TZNAME:EST
DTSTART:20251102T020000
TZOFFSETFROM:-0400
TZOFFSETTO:-0500
RDATE:20261101T020000
END:STANDARD
BEGIN:DAYLIGHT
TZNAME:EDT
DTSTART:20260308T020000
TZOFFSETFROM:-0500
TZOFFSETTO:-0400
RDATE:20270314T020000
END:DAYLIGHT
END:VTIMEZONE
BEGIN:VEVENT
UID:20250108T183000UTC-9044DSvv86@https://cameronstation.org/
DTSTAMP:20260423T205212Z
CATEGORIES:Fitness Center
DESCRIPTION:<p><strong>POMSQUAD Fitness Class Cancelled -Yoga 6:30pm - 7:30
 pm\, Victoria Hebert Great Room</strong></p>
DTSTART;TZID=America/New_York:20260114T183000
DTEND;TZID=America/New_York:20260114T193000
SUMMARY:POMSQUAD Class - Cancelled for Yoga
URL:https://ftp.cameronstation.org/calendar/83-fitness-center/9863-pomsquad
 -fitness-class
X-ALT-DESC;FMTTYPE=TEXT/HTML:<p><strong>POMSQUAD Fitness Class Cancelled -Y
 oga 6:30pm - 7:30pm\, Victoria Hebert Great Room</strong></p>
END:VEVENT
END:VCALENDAR
