BEGIN:VCALENDAR
VERSION:2.0
PRODID:-//https://ftp.cameronstation.org//NONSGML kigkonsult.se iCalcreator 2.41.71//
CALSCALE:GREGORIAN
METHOD:PUBLISH
UID:63626532-6534-4838-b433-343836633038
X-WR-CALNAME:JCal Pro Calendar
X-WR-CALDESC:Your online events calendar
X-WR-TIMEZONE:America/New_York
BEGIN:VTIMEZONE
TZID:America/New_York
TZUNTIL:20271107T060000Z
BEGIN:STANDARD
TZNAME:EST
DTSTART:20251102T020000
TZOFFSETFROM:-0400
TZOFFSETTO:-0500
RDATE:20261101T020000
END:STANDARD
BEGIN:DAYLIGHT
TZNAME:EDT
DTSTART:20260308T020000
TZOFFSETFROM:-0500
TZOFFSETTO:-0400
RDATE:20270314T020000
END:DAYLIGHT
END:VTIMEZONE
BEGIN:VEVENT
UID:20250108T183000UTC-9044DSvv86@https://cameronstation.org/
DTSTAMP:20260424T002247Z
CATEGORIES:Fitness Center
DESCRIPTION:<p><strong>POMSQUAD Fitness Class (Complimentary) - Wednesday\,
  December 24\, 2025 12:00 pm - 1:00 pm\, Multi-Purpose Court</strong></p>
 \n<p><a href='https://nam04.safelinks.protection.outlook.com/?url=https%3A
 %2F%2Fwww.pomsquadfitness.com%2F&amp\;data=05%7C02%7Ccamstati%40ciramail.c
 om%7Cc2deb8c3a9f945a8de2f08dce31a3fb8%7Cda8e92af9afc403eab4f552d098fb354%7
 C0%7C0%7C638634949139294826%7CUnknown%7CTWFpbGZsb3d8eyJWIjoiMC4wLjAwMDAiLC
 JQIjoiV2luMzIiLCJBTiI6Ik1haWwiLCJXVCI6Mn0%3D%7C0%7C%7C%7C&amp\;sdata=wO%2B
 O5hvnJBuONpRi1E1ZFSAJwh9B8oNlRzKas%2BgFjI8%3D&amp\;reserved=0'>POMSQUAD™</
 a>&nbsp\;is a super fun\, immensely positive\, high energy dance fitness c
 lass! &nbsp\; You'll be shaking your poms while prancing\, dancing\, bendi
 ng\, and snapping to today’s hits and yesterday’s favorites.&nbsp\; Inclus
 ive\, encouraging\, and easy to follow classes are designed to maximize ca
 loric burn while strengthening and toning the body.&nbsp\; Featuring a var
 iety of dance styles and unique choreography\, there is something for ever
 y type of spirit leader in each and every class.&nbsp\;LIVE THE DREAM. JOI
 N THE SQUAD!</p>
DTSTART;TZID=America/New_York:20251224T120000
DTEND;TZID=America/New_York:20251224T130000
SUMMARY:POMSQUAD Fitness Class - Rescheduled to Noon!
URL:https://ftp.cameronstation.org/calendar/83-fitness-center/9860-pomsquad
 -fitness-class
X-ALT-DESC;FMTTYPE=TEXT/HTML:<p><strong>POMSQUAD Fitness Class (Complimenta
 ry) - Wednesday\, December 24\, 2025 12:00 pm - 1:00 pm\, Multi-Purpose Co
 urt</strong></p>\n<p><a href='https://nam04.safelinks.protection.outlook.c
 om/?url=https%3A%2F%2Fwww.pomsquadfitness.com%2F&amp\;data=05%7C02%7Ccamst
 ati%40ciramail.com%7Cc2deb8c3a9f945a8de2f08dce31a3fb8%7Cda8e92af9afc403eab
 4f552d098fb354%7C0%7C0%7C638634949139294826%7CUnknown%7CTWFpbGZsb3d8eyJWIj
 oiMC4wLjAwMDAiLCJQIjoiV2luMzIiLCJBTiI6Ik1haWwiLCJXVCI6Mn0%3D%7C0%7C%7C%7C&
 amp\;sdata=wO%2BO5hvnJBuONpRi1E1ZFSAJwh9B8oNlRzKas%2BgFjI8%3D&amp\;reserve
 d=0'>POMSQUAD™</a>&nbsp\;is a super fun\, immensely positive\, high energy
  dance fitness class! &nbsp\; You'll be shaking your poms while prancing\,
  dancing\, bending\, and snapping to today’s hits and yesterday’s favorite
 s.&nbsp\; Inclusive\, encouraging\, and easy to follow classes are designe
 d to maximize caloric burn while strengthening and toning the body.&nbsp\;
  Featuring a variety of dance styles and unique choreography\, there is so
 mething for every type of spirit leader in each and every class.&nbsp\;LIV
 E THE DREAM. JOIN THE SQUAD!</p>
END:VEVENT
END:VCALENDAR
