BEGIN:VCALENDAR
VERSION:2.0
PRODID:-//https://ftp.cameronstation.org//NONSGML kigkonsult.se iCalcreator 2.41.71//
CALSCALE:GREGORIAN
METHOD:PUBLISH
UID:30393364-6532-4436-b632-353730313835
X-WR-CALNAME:JCal Pro Calendar
X-WR-CALDESC:Your online events calendar
X-WR-TIMEZONE:America/New_York
BEGIN:VTIMEZONE
TZID:America/New_York
TZUNTIL:20271107T060000Z
BEGIN:STANDARD
TZNAME:EST
DTSTART:20251102T020000
TZOFFSETFROM:-0400
TZOFFSETTO:-0500
RDATE:20261101T020000
END:STANDARD
BEGIN:DAYLIGHT
TZNAME:EDT
DTSTART:20260308T020000
TZOFFSETFROM:-0500
TZOFFSETTO:-0400
RDATE:20270314T020000
END:DAYLIGHT
END:VTIMEZONE
BEGIN:VEVENT
UID:20250103T103000UTC-7357HgHV17@https://cameronstation.org/
DTSTAMP:20260423T155710Z
CATEGORIES:Fitness Center
DESCRIPTION:<div class='doclink'><strong>Total Body Weights - Cancelled Tod
 ay</strong></div>
DTSTART;TZID=America/New_York:20260417T103000
DTEND;TZID=America/New_York:20260417T113000
SUMMARY:Total Body Weights - Cancelled
URL:https://ftp.cameronstation.org/calendar/83-fitness-center/9800-total-bo
 dy-weights
X-ALT-DESC;FMTTYPE=TEXT/HTML:<div class='doclink'><strong>Total Body Weight
 s - Cancelled Today</strong></div>
END:VEVENT
END:VCALENDAR
