BEGIN:VCALENDAR
VERSION:2.0
PRODID:-//https://ftp.cameronstation.org//NONSGML kigkonsult.se iCalcreator 2.41.71//
CALSCALE:GREGORIAN
METHOD:PUBLISH
UID:61393263-3034-4534-a431-626133366336
X-WR-CALNAME:JCal Pro Calendar
X-WR-CALDESC:Your online events calendar
X-WR-TIMEZONE:America/New_York
BEGIN:VTIMEZONE
TZID:America/New_York
TZUNTIL:20271107T060000Z
BEGIN:STANDARD
TZNAME:EST
DTSTART:20251102T020000
TZOFFSETFROM:-0400
TZOFFSETTO:-0500
RDATE:20261101T020000
END:STANDARD
BEGIN:DAYLIGHT
TZNAME:EDT
DTSTART:20260308T020000
TZOFFSETFROM:-0500
TZOFFSETTO:-0400
RDATE:20270314T020000
END:DAYLIGHT
END:VTIMEZONE
BEGIN:VEVENT
UID:20250928T103000UTC-0659Zkz5X8@https://cameronstation.org/
DTSTAMP:20260424T034424Z
CATEGORIES:Fitness Center
DESCRIPTION:<p>September Pool Hours:</p>\n<ul>\n<li>Saturdays and Sundays O
 nly\, 10:30 am - 8:30 pm</li>\n<li>Last day of the pool season is Sunday\,
  September 28\, 2025</li>\n</ul>
DTSTART;TZID=America/New_York:20250928T103000
DTEND;TZID=America/New_York:20250928T203000
SUMMARY:Last Day of Pool Season 2025
URL:https://ftp.cameronstation.org/calendar/83-fitness-center/9237-last-day
 -of-pool-season-2025
X-ALT-DESC;FMTTYPE=TEXT/HTML:<p>September Pool Hours:</p>\n<ul>\n<li>Saturd
 ays and Sundays Only\, 10:30 am - 8:30 pm</li>\n<li>Last day of the pool s
 eason is Sunday\, September 28\, 2025</li>\n</ul>
END:VEVENT
END:VCALENDAR
