BEGIN:VCALENDAR
VERSION:2.0
PRODID:-//https://ftp.cameronstation.org//NONSGML kigkonsult.se iCalcreator 2.41.71//
CALSCALE:GREGORIAN
METHOD:PUBLISH
UID:62636534-6332-4266-a363-306362663534
X-WR-CALNAME:JCal Pro Calendar
X-WR-CALDESC:Your online events calendar
X-WR-TIMEZONE:America/New_York
BEGIN:VTIMEZONE
TZID:America/New_York
TZUNTIL:20271107T060000Z
BEGIN:STANDARD
TZNAME:EST
DTSTART:20251102T020000
TZOFFSETFROM:-0400
TZOFFSETTO:-0500
RDATE:20261101T020000
END:STANDARD
BEGIN:DAYLIGHT
TZNAME:EDT
DTSTART:20260308T020000
TZOFFSETFROM:-0500
TZOFFSETTO:-0400
RDATE:20270314T020000
END:DAYLIGHT
END:VTIMEZONE
BEGIN:VEVENT
UID:20251004T090000UTC-65242wT4XI@https://cameronstation.org/
DTSTAMP:20260423T173602Z
CATEGORIES:Fitness Center
DESCRIPTION:<p><strong>Zumba Class is cancelled due to the Red Cross Blood 
 Drive Event.&nbsp\;</strong></p>\n<p><span>We are still seeking volunteers
  to help with the event. </span><span>If interested\, please reach out to 
 Emily and Mike at </span><a href='mailto:cameronstationblooddrive@gmail.co
 m'>cameronstationblooddrive@gmail.com</a></p>
DTSTART;TZID=America/New_York:20260411T090000
DTEND;TZID=America/New_York:20260411T100000
SUMMARY:Zumba - Cancelled
URL:https://ftp.cameronstation.org/calendar/83-fitness-center/9209-zumba
X-ALT-DESC;FMTTYPE=TEXT/HTML:<p><strong>Zumba Class is cancelled due to the
  Red Cross Blood Drive Event.&nbsp\;</strong></p>\n<p><span>We are still s
 eeking volunteers to help with the event. </span><span>If interested\, ple
 ase reach out to Emily and Mike at </span><a href='mailto:cameronstationbl
 ooddrive@gmail.com'>cameronstationblooddrive@gmail.com</a></p>
END:VEVENT
END:VCALENDAR
