BEGIN:VCALENDAR
VERSION:2.0
PRODID:-//https://ftp.cameronstation.org//NONSGML kigkonsult.se iCalcreator 2.41.71//
CALSCALE:GREGORIAN
METHOD:PUBLISH
UID:65643834-3662-4565-b730-316438643964
X-WR-CALNAME:JCal Pro Calendar
X-WR-CALDESC:Your online events calendar
X-WR-TIMEZONE:America/New_York
BEGIN:VTIMEZONE
TZID:America/New_York
TZUNTIL:20271107T060000Z
BEGIN:STANDARD
TZNAME:EST
DTSTART:20251102T020000
TZOFFSETFROM:-0400
TZOFFSETTO:-0500
RDATE:20261101T020000
END:STANDARD
BEGIN:DAYLIGHT
TZNAME:EDT
DTSTART:20260308T020000
TZOFFSETFROM:-0500
TZOFFSETTO:-0400
RDATE:20270314T020000
END:DAYLIGHT
END:VTIMEZONE
BEGIN:VEVENT
UID:20250107T083000UTC-4150BGHvUo@https://cameronstation.org/
DTSTAMP:20260424T002131Z
CATEGORIES:Fitness Center
DESCRIPTION:<div><strong>Yoga II (Complimentary) -&nbsp\;Tuesdays 8:30 am -
  9:30 am - Moved to Multipurpose Court</strong></div>\n<div>Class will be 
 held in the Multipurpose Court due to the General Election in the Victoria
  Hebert Great Room.</div>
DTSTART;TZID=America/New_York:20251104T083000
DTEND;TZID=America/New_York:20251104T093000
SUMMARY:Yoga II - Moved to Multipurpose Court
URL:https://ftp.cameronstation.org/calendar/83-fitness-center/8440-yoga-ii
X-ALT-DESC;FMTTYPE=TEXT/HTML:<div><strong>Yoga II (Complimentary) -&nbsp\;T
 uesdays 8:30 am - 9:30 am - Moved to Multipurpose Court</strong></div>\n<d
 iv>Class will be held in the Multipurpose Court due to the General Electio
 n in the Victoria Hebert Great Room.</div>
END:VEVENT
END:VCALENDAR
