BEGIN:VCALENDAR
VERSION:2.0
PRODID:-//https://ftp.cameronstation.org//NONSGML kigkonsult.se iCalcreator 2.41.71//
CALSCALE:GREGORIAN
METHOD:PUBLISH
UID:37626439-6435-4234-b864-356533316131
X-WR-CALNAME:JCal Pro Calendar
X-WR-CALDESC:Your online events calendar
X-WR-TIMEZONE:America/New_York
BEGIN:VTIMEZONE
TZID:America/New_York
TZUNTIL:20271107T060000Z
BEGIN:STANDARD
TZNAME:EST
DTSTART:20251102T020000
TZOFFSETFROM:-0400
TZOFFSETTO:-0500
RDATE:20261101T020000
END:STANDARD
BEGIN:DAYLIGHT
TZNAME:EDT
DTSTART:20260308T020000
TZOFFSETFROM:-0500
TZOFFSETTO:-0400
RDATE:20270314T020000
END:DAYLIGHT
END:VTIMEZONE
BEGIN:VEVENT
UID:20240521T063000UTC-7878irEgvP@https://cameronstation.org/
DTSTAMP:20260425T115334Z
CATEGORIES:Fitness Center
DESCRIPTION:<p>Due to an unexpected departure of the Pilates/Total body wei
 ghts instructor\, the Tuesday morning classes and Pilates Wednesday evenin
 g classes have been put on hold until further notice. A replacement instru
 ctor is being sought out and the community will be notified as soon as an 
 adequate replacement has been found.&nbsp\;</p>\n<p>&nbsp\;</p>
DTSTART;TZID=America/New_York:20240730T063000
DTEND;TZID=America/New_York:20240730T070300
SUMMARY:Total Body Weights - Hiatus
URL:https://ftp.cameronstation.org/calendar/83-fitness-center/7143-total-bo
 dy-weights
X-ALT-DESC;FMTTYPE=TEXT/HTML:<p>Due to an unexpected departure of the Pilat
 es/Total body weights instructor\, the Tuesday morning classes and Pilates
  Wednesday evening classes have been put on hold until further notice. A r
 eplacement instructor is being sought out and the community will be notifi
 ed as soon as an adequate replacement has been found.&nbsp\;</p>\n<p>&nbsp
 \;</p>
END:VEVENT
END:VCALENDAR
