BEGIN:VCALENDAR
VERSION:2.0
PRODID:-//https://ftp.cameronstation.org//NONSGML kigkonsult.se iCalcreator 2.41.71//
CALSCALE:GREGORIAN
METHOD:PUBLISH
UID:34316666-3763-4330-b139-346337393839
X-WR-CALNAME:JCal Pro Calendar
X-WR-CALDESC:Your online events calendar
X-WR-TIMEZONE:America/New_York
BEGIN:VTIMEZONE
TZID:America/New_York
TZUNTIL:20271107T060000Z
BEGIN:STANDARD
TZNAME:EST
DTSTART:20251102T020000
TZOFFSETFROM:-0400
TZOFFSETTO:-0500
RDATE:20261101T020000
END:STANDARD
BEGIN:DAYLIGHT
TZNAME:EDT
DTSTART:20260308T020000
TZOFFSETFROM:-0500
TZOFFSETTO:-0400
RDATE:20270314T020000
END:DAYLIGHT
END:VTIMEZONE
BEGIN:VEVENT
UID:20240601T090000UTC-7237anAUFB@https://cameronstation.org/
DTSTAMP:20260425T115332Z
CATEGORIES:Fitness Center
DESCRIPTION:<p><strong>Aqua Aerobics will be substituted with the Pom Pom C
 lass tomorrow\, July 20\, 2024\, at 8:30 am in the Multipurpose Court. </s
 trong></p>
DTSTART;TZID=America/New_York:20240720T090000
DTEND;TZID=America/New_York:20240720T100000
SUMMARY:Aqua Aerobics - Cancelled
URL:https://ftp.cameronstation.org/calendar/83-fitness-center/7004-aqua-aer
 obics
X-ALT-DESC;FMTTYPE=TEXT/HTML:<p><strong>Aqua Aerobics will be substituted w
 ith the Pom Pom Class tomorrow\, July 20\, 2024\, at 8:30 am in the Multip
 urpose Court. </strong></p>
END:VEVENT
END:VCALENDAR
