BEGIN:VCALENDAR
VERSION:2.0
PRODID:-//https://ftp.cameronstation.org//NONSGML kigkonsult.se iCalcreator 2.41.71//
CALSCALE:GREGORIAN
METHOD:PUBLISH
UID:34653733-3235-4739-b336-306362363735
X-WR-CALNAME:JCal Pro Calendar
X-WR-CALDESC:Your online events calendar
X-WR-TIMEZONE:America/New_York
BEGIN:VTIMEZONE
TZID:America/New_York
TZUNTIL:20271107T060000Z
BEGIN:STANDARD
TZNAME:EST
DTSTART:20251102T020000
TZOFFSETFROM:-0400
TZOFFSETTO:-0500
RDATE:20261101T020000
END:STANDARD
BEGIN:DAYLIGHT
TZNAME:EDT
DTSTART:20260308T020000
TZOFFSETFROM:-0500
TZOFFSETTO:-0400
RDATE:20270314T020000
END:DAYLIGHT
END:VTIMEZONE
BEGIN:VEVENT
UID:20240601T090000UTC-7237anAUFB@https://cameronstation.org/
DTSTAMP:20260425T131957Z
CATEGORIES:Fitness Center
DESCRIPTION:<p>Aqua Aerobics:&nbsp\;&nbsp\;Saturdays\, 9:00 am - 10:00 am\,
  Cameron Club Pool</p>\n<p>Saturdays starting June 1\, 2024\, and ending o
 n September 28\, 2024.&nbsp\;Walk-ins are welcome!</p>
DTSTART;TZID=America/New_York:20240601T090000
DTEND;TZID=America/New_York:20240601T100000
RRULE:FREQ=WEEKLY;UNTIL=20240928T040000Z;INTERVAL=1;BYDAY=SA
SUMMARY:Aqua Aerobics
URL:https://ftp.cameronstation.org/calendar/83-fitness-center/6928-aqua-aer
 obics
X-ALT-DESC;FMTTYPE=TEXT/HTML:<p>Aqua Aerobics:&nbsp\;&nbsp\;Saturdays\, 9:0
 0 am - 10:00 am\, Cameron Club Pool</p>\n<p>Saturdays starting June 1\, 20
 24\, and ending on September 28\, 2024.&nbsp\;Walk-ins are welcome!</p>
END:VEVENT
END:VCALENDAR
