BEGIN:VCALENDAR
VERSION:2.0
PRODID:-//https://ftp.cameronstation.org//NONSGML kigkonsult.se iCalcreator 2.41.71//
CALSCALE:GREGORIAN
METHOD:PUBLISH
UID:35373534-3030-4430-a637-386562666536
X-WR-CALNAME:JCal Pro Calendar
X-WR-CALDESC:Your online events calendar
X-WR-TIMEZONE:America/New_York
BEGIN:VTIMEZONE
TZID:America/New_York
TZUNTIL:20271107T060000Z
BEGIN:STANDARD
TZNAME:EST
DTSTART:20251102T020000
TZOFFSETFROM:-0400
TZOFFSETTO:-0500
RDATE:20261101T020000
END:STANDARD
BEGIN:DAYLIGHT
TZNAME:EDT
DTSTART:20260308T020000
TZOFFSETFROM:-0500
TZOFFSETTO:-0400
RDATE:20270314T020000
END:DAYLIGHT
END:VTIMEZONE
BEGIN:VEVENT
UID:20240519T103000UTC-3918NUGrnG@https://cameronstation.org/
DTSTAMP:20260425T150502Z
CATEGORIES:Fitness Center
DESCRIPTION:<p>The Cameron Club swimming pool soft opening will be Saturday
 \, May 18\, and Sunday\, May 19\, 2024\,10:30 am – 8:30 pm.&nbsp\;&nbsp\;<
 /p>\n<p>The pool will remain closed Monday – Friday (next week) and offici
 ally open for the Summer 2024 pool season on Saturday\, May 25\, 2024\, at
  10:30 am.</p>\n<p>The pool season will end on Labor Day\, Monday\, Septem
 ber 2\, 2024.&nbsp\;However\, the pool season will be extended on weekends
  (Saturdays and Sundays) in September.</p>
DTSTART;TZID=America/New_York:20240519T103000
DTEND;TZID=America/New_York:20240519T203000
SUMMARY:Pool Soft Opening!
URL:https://ftp.cameronstation.org/calendar/83-fitness-center/6907-pool-sof
 t-opening
X-ALT-DESC;FMTTYPE=TEXT/HTML:<p>The Cameron Club swimming pool soft opening
  will be Saturday\, May 18\, and Sunday\, May 19\, 2024\,10:30 am – 8:30 p
 m.&nbsp\;&nbsp\;</p>\n<p>The pool will remain closed Monday – Friday (next
  week) and officially open for the Summer 2024 pool season on Saturday\, M
 ay 25\, 2024\, at 10:30 am.</p>\n<p>The pool season will end on Labor Day\
 , Monday\, September 2\, 2024.&nbsp\;However\, the pool season will be ext
 ended on weekends (Saturdays and Sundays) in September.</p>
END:VEVENT
END:VCALENDAR
