BEGIN:VCALENDAR
VERSION:2.0
PRODID:-//https://ftp.cameronstation.org//NONSGML kigkonsult.se iCalcreator 2.41.71//
CALSCALE:GREGORIAN
METHOD:PUBLISH
UID:61393834-3963-4531-b035-613030363138
X-WR-CALNAME:JCal Pro Calendar
X-WR-CALDESC:Your online events calendar
X-WR-TIMEZONE:America/New_York
BEGIN:VTIMEZONE
TZID:America/New_York
TZUNTIL:20271107T060000Z
BEGIN:STANDARD
TZNAME:EST
DTSTART:20251102T020000
TZOFFSETFROM:-0400
TZOFFSETTO:-0500
RDATE:20261101T020000
END:STANDARD
BEGIN:DAYLIGHT
TZNAME:EDT
DTSTART:20260308T020000
TZOFFSETFROM:-0500
TZOFFSETTO:-0400
RDATE:20270314T020000
END:DAYLIGHT
END:VTIMEZONE
BEGIN:VEVENT
UID:20240221T183000UTC-0554aiUHWV@https://cameronstation.org/
DTSTAMP:20260425T115336Z
CATEGORIES:Fitness Center
DESCRIPTION:<p>Pilates: Stretch and Breathe&nbsp\;</p>\n<p>Every Wednesday\
 , 6:30 - 7:30 PM&nbsp\;</p>\n<p><strong>Due to construction in the Victori
 a Hebert Great Room\, Pilates Class will be held in the Henderson Room on 
 the 2nd Floor of the Cameron Club building.&nbsp\;</strong></p>
DTSTART;TZID=America/New_York:20240724T183000
DTEND;TZID=America/New_York:20240724T193000
SUMMARY:Pilates - Moved to Henderson Room
URL:https://ftp.cameronstation.org/calendar/83-fitness-center/6739-pilates
X-ALT-DESC;FMTTYPE=TEXT/HTML:<p>Pilates: Stretch and Breathe&nbsp\;</p>\n<p
 >Every Wednesday\, 6:30 - 7:30 PM&nbsp\;</p>\n<p><strong>Due to constructi
 on in the Victoria Hebert Great Room\, Pilates Class will be held in the H
 enderson Room on the 2nd Floor of the Cameron Club building.&nbsp\;</stron
 g></p>
END:VEVENT
END:VCALENDAR
