BEGIN:VCALENDAR
VERSION:2.0
PRODID:-//https://ftp.cameronstation.org//NONSGML kigkonsult.se iCalcreator 2.41.71//
CALSCALE:GREGORIAN
METHOD:PUBLISH
UID:39316664-3263-4265-b934-633231623531
X-WR-CALNAME:JCal Pro Calendar
X-WR-CALDESC:Your online events calendar
X-WR-TIMEZONE:America/New_York
BEGIN:VTIMEZONE
TZID:America/New_York
TZUNTIL:20271107T060000Z
BEGIN:STANDARD
TZNAME:EST
DTSTART:20251102T020000
TZOFFSETFROM:-0400
TZOFFSETTO:-0500
RDATE:20261101T020000
END:STANDARD
BEGIN:DAYLIGHT
TZNAME:EDT
DTSTART:20260308T020000
TZOFFSETFROM:-0500
TZOFFSETTO:-0400
RDATE:20270314T020000
END:DAYLIGHT
END:VTIMEZONE
BEGIN:VEVENT
UID:20240221T183000UTC-0554aiUHWV@https://cameronstation.org/
DTSTAMP:20260425T115337Z
CATEGORIES:Fitness Center
DESCRIPTION:<p>Pilates has been cancelled due to the floor installation in 
 the Victoria Hebert Great Room.&nbsp\;</p>\n<p>Next week's class will be h
 eld in the Henderson Room on the second floor of the Cameron Club.&nbsp\;<
 /p>
DTSTART;TZID=America/New_York:20240710T183000
DTEND;TZID=America/New_York:20240710T193000
SUMMARY:Pilates - Canceled
URL:https://ftp.cameronstation.org/calendar/83-fitness-center/6737-pilates
X-ALT-DESC;FMTTYPE=TEXT/HTML:<p>Pilates has been cancelled due to the floor
  installation in the Victoria Hebert Great Room.&nbsp\;</p>\n<p>Next week'
 s class will be held in the Henderson Room on the second floor of the Came
 ron Club.&nbsp\;</p>
END:VEVENT
END:VCALENDAR
