BEGIN:VCALENDAR
VERSION:2.0
PRODID:-//https://ftp.cameronstation.org//NONSGML kigkonsult.se iCalcreator 2.41.71//
CALSCALE:GREGORIAN
METHOD:PUBLISH
UID:32303661-3834-4236-a561-636366336566
X-WR-CALNAME:JCal Pro Calendar
X-WR-CALDESC:Your online events calendar
X-WR-TIMEZONE:America/New_York
BEGIN:VTIMEZONE
TZID:America/New_York
TZUNTIL:20271107T060000Z
BEGIN:STANDARD
TZNAME:EST
DTSTART:20251102T020000
TZOFFSETFROM:-0400
TZOFFSETTO:-0500
RDATE:20261101T020000
END:STANDARD
BEGIN:DAYLIGHT
TZNAME:EDT
DTSTART:20260308T020000
TZOFFSETFROM:-0500
TZOFFSETTO:-0400
RDATE:20270314T020000
END:DAYLIGHT
END:VTIMEZONE
BEGIN:VEVENT
UID:20240110T183000EST-8443jr94dp@https://cameronstation.org/
DTSTAMP:20260425T115338Z
CATEGORIES:Fitness Center
DESCRIPTION:<p>Please note that the Pom Pom class tonight is canceled. Upda
 tes for next week's class will be sent out accordingly.</p>
DTSTART;TZID=America/New_York:20240717T183000
DTEND;TZID=America/New_York:20240717T193000
SUMMARY:Pom-Pom Class - Canceled!
URL:https://ftp.cameronstation.org/calendar/83-fitness-center/6318-pom-pom-
 class
X-ALT-DESC;FMTTYPE=TEXT/HTML:<p>Please note that the Pom Pom class tonight 
 is canceled. Updates for next week's class will be sent out accordingly.</
 p>
END:VEVENT
END:VCALENDAR
