BEGIN:VCALENDAR
VERSION:2.0
PRODID:-//https://ftp.cameronstation.org//NONSGML kigkonsult.se iCalcreator 2.41.71//
CALSCALE:GREGORIAN
METHOD:PUBLISH
UID:30613533-6439-4666-b131-613962353966
X-WR-CALNAME:JCal Pro Calendar
X-WR-CALDESC:Your online events calendar
X-WR-TIMEZONE:America/New_York
BEGIN:VTIMEZONE
TZID:America/New_York
TZUNTIL:20271107T060000Z
BEGIN:STANDARD
TZNAME:EST
DTSTART:20251102T020000
TZOFFSETFROM:-0400
TZOFFSETTO:-0500
RDATE:20261101T020000
END:STANDARD
BEGIN:DAYLIGHT
TZNAME:EDT
DTSTART:20260308T020000
TZOFFSETFROM:-0500
TZOFFSETTO:-0400
RDATE:20270314T020000
END:DAYLIGHT
END:VTIMEZONE
BEGIN:VEVENT
UID:20250927T100000UTC-9189gBEue3@https://cameronstation.org/
DTSTAMP:20260424T034245Z
CATEGORIES:CSCA Event Calendar
DESCRIPTION:<p>Goodwill of Greater Washington will be hosting another Donat
 ion Drive in the Cameron Club Parking Lot\, <strong>Saturday\, September 2
 7\, 2025\, 10:00 am to 2:00 pm</strong>. Donate your gently used clothing 
 and household goods to help support Goodwill's training programs and servi
 ces. Other items that can be donated include:</p>\n<ul>\n<li>Books</li>\n<
 li>Appliances</li>\n<li>Electronics</li>\n<li>Computers</li>\n<li>CDs &amp
 \; DVDs</li>\n<li>Video Games</li>\n</ul>\n<p>Earlier this year\, Cameron 
 Station donated 4\,826 pounds of gently used items!&nbsp\;For more informa
 tion\, please contact the coordinator\, Carolyn Becker\,&nbsp\;at&nbsp\;<a
  href='mailto:carolyn.becker@dcgoodwill.org' target='_blank' rel='noopener
  noreferrer'></a><a href='mailto:carolyn.becker@dcgoodwill.org'>carolyn.be
 cker@dcgoodwill.org</a>.</p>
DTSTART;TZID=America/New_York:20250927T100000
DTEND;TZID=America/New_York:20250927T140000
SUMMARY:Goodwill Truck at Cameron Station
URL:https://ftp.cameronstation.org/calendar/68-csca-event-calendar/9233-goo
 dwill-truck-at-cameron-station
X-ALT-DESC;FMTTYPE=TEXT/HTML:<p>Goodwill of Greater Washington will be host
 ing another Donation Drive in the Cameron Club Parking Lot\, <strong>Satur
 day\, September 27\, 2025\, 10:00 am to 2:00 pm</strong>. Donate your gent
 ly used clothing and household goods to help support Goodwill's training p
 rograms and services. Other items that can be donated include:</p>\n<ul>\n
 <li>Books</li>\n<li>Appliances</li>\n<li>Electronics</li>\n<li>Computers</
 li>\n<li>CDs &amp\; DVDs</li>\n<li>Video Games</li>\n</ul>\n<p>Earlier thi
 s year\, Cameron Station donated 4\,826 pounds of gently used items!&nbsp\
 ;For more information\, please contact the coordinator\, Carolyn Becker\,&
 nbsp\;at&nbsp\;<a href='mailto:carolyn.becker@dcgoodwill.org' target='_bla
 nk' rel='noopener noreferrer'></a><a href='mailto:carolyn.becker@dcgoodwil
 l.org'>carolyn.becker@dcgoodwill.org</a>.</p>
END:VEVENT
END:VCALENDAR
