BEGIN:VCALENDAR
VERSION:2.0
PRODID:-//https://ftp.cameronstation.org//NONSGML kigkonsult.se iCalcreator 2.41.71//
CALSCALE:GREGORIAN
METHOD:PUBLISH
UID:31316334-6566-4933-b136-313162316636
X-WR-CALNAME:JCal Pro Calendar
X-WR-CALDESC:Your online events calendar
X-WR-TIMEZONE:America/New_York
BEGIN:VTIMEZONE
TZID:America/New_York
TZUNTIL:20271107T060000Z
BEGIN:STANDARD
TZNAME:EST
DTSTART:20251102T020000
TZOFFSETFROM:-0400
TZOFFSETTO:-0500
RDATE:20261101T020000
END:STANDARD
BEGIN:DAYLIGHT
TZNAME:EDT
DTSTART:20260308T020000
TZOFFSETFROM:-0500
TZOFFSETTO:-0400
RDATE:20270314T020000
END:DAYLIGHT
END:VTIMEZONE
BEGIN:VEVENT
UID:20251207T120000UTC-3703kEZwNE@https://cameronstation.org/
DTSTAMP:20260423T223550Z
CATEGORIES:CSCA Event Calendar
DESCRIPTION:<p>Join your neighbors for a festive afternoon at the Cameron S
 tation Holiday Party! Mark your calendars for&nbsp\;Sunday\, December 7\, 
 2025\, from 12:00 Noon to 3:00 pm\, at the Cameron Station Club &amp\; Gaz
 ebo. This year’s celebration will feature:</p>\n<ul>\n<li>Mini Petting Zoo
 </li>\n<li>Meet Santa</li>\n<li>Holiday Market</li>\n<li>Photo Booth</li>
 \n<li>Delicious Catering by La Casa</li>\n<li>Hot Chocolate\, Festive Cook
 ies &amp\; Adult Beverages&nbsp\;</li>\n</ul>\n<p><strong>We Need Voluntee
 rs!</strong></p>\n<p>Help us make this year’s Holiday Party memorable! Vol
 unteers are essential to making this event run smoothly. Whether you can a
 ssist with set-up\, managing activities\, or clean-up\, your help is great
 ly appreciated.&nbsp\;</p>\n<p><span style='text-decoration: underline\;'>
 <a href='https://www.signupgenius.com/go/805084DACAB28A5FA7-60495910-camer
 on'>CLICK HERE</a></span> to sign up or email&nbsp\;<span style='text-deco
 ration: underline\;'><a href='mailto:events@cameronstation.org'>events@cam
 eronstation.org</a></span>&nbsp\;for more details on how you can contribut
 e.</p>\n<p>&nbsp\;</p>
DTSTART;TZID=America/New_York:20251207T120000
DTEND;TZID=America/New_York:20251207T130000
SUMMARY:Cameron Station Holiday Party
URL:https://ftp.cameronstation.org/calendar/68-csca-event-calendar/9056-cam
 eron-station-holiday-party
X-ALT-DESC;FMTTYPE=TEXT/HTML:<p>Join your neighbors for a festive afternoon
  at the Cameron Station Holiday Party! Mark your calendars for&nbsp\;Sunda
 y\, December 7\, 2025\, from 12:00 Noon to 3:00 pm\, at the Cameron Statio
 n Club &amp\; Gazebo. This year’s celebration will feature:</p>\n<ul>\n<li
 >Mini Petting Zoo</li>\n<li>Meet Santa</li>\n<li>Holiday Market</li>\n<li>
 Photo Booth</li>\n<li>Delicious Catering by La Casa</li>\n<li>Hot Chocolat
 e\, Festive Cookies &amp\; Adult Beverages&nbsp\;</li>\n</ul>\n<p><strong>
 We Need Volunteers!</strong></p>\n<p>Help us make this year’s Holiday Part
 y memorable! Volunteers are essential to making this event run smoothly. W
 hether you can assist with set-up\, managing activities\, or clean-up\, yo
 ur help is greatly appreciated.&nbsp\;</p>\n<p><span style='text-decoratio
 n: underline\;'><a href='https://www.signupgenius.com/go/805084DACAB28A5FA
 7-60495910-cameron'>CLICK HERE</a></span> to sign up or email&nbsp\;<span 
 style='text-decoration: underline\;'><a href='mailto:events@cameronstation
 .org'>events@cameronstation.org</a></span>&nbsp\;for more details on how y
 ou can contribute.</p>\n<p>&nbsp\;</p>
END:VEVENT
END:VCALENDAR
