BEGIN:VCALENDAR
VERSION:2.0
PRODID:-//https://ftp.cameronstation.org//NONSGML kigkonsult.se iCalcreator 2.41.71//
CALSCALE:GREGORIAN
METHOD:PUBLISH
UID:33373230-6162-4239-a432-323565383232
X-WR-CALNAME:JCal Pro Calendar
X-WR-CALDESC:Your online events calendar
X-WR-TIMEZONE:America/New_York
BEGIN:VTIMEZONE
TZID:America/New_York
TZUNTIL:20271107T060000Z
BEGIN:STANDARD
TZNAME:EST
DTSTART:20251102T020000
TZOFFSETFROM:-0400
TZOFFSETTO:-0500
RDATE:20261101T020000
END:STANDARD
BEGIN:DAYLIGHT
TZNAME:EDT
DTSTART:20260308T020000
TZOFFSETFROM:-0500
TZOFFSETTO:-0400
RDATE:20270314T020000
END:DAYLIGHT
END:VTIMEZONE
BEGIN:VEVENT
UID:20251202T190000UTC-8750In5DC0@https://cameronstation.org/
DTSTAMP:20260423T223733Z
CATEGORIES:Board & Committee Meetings
DESCRIPTION:<p>The Board of Directors meetings are typically held the last 
 Tuesday of the month\, via a hybrid virtual conference using Zoom.&nbsp\;&
 nbsp\;The December meeting has been rescheduled to Tuesday\, December 2\, 
 2025\, at 7:00 pm.&nbsp\;Please click&nbsp\;<a href='our-neighborhood/boar
 d-committees/board-of-directors'>here</a>&nbsp\;to obtain meeting details.
 </p>
DTSTART;TZID=America/New_York:20251202T190000
DTEND;TZID=America/New_York:20251202T200000
SUMMARY:Board of Directors Meeting - Rescheduled
URL:https://ftp.cameronstation.org/calendar/68-csca-event-calendar/74-commi
 ttee-meetings/9320-board-of-directors-meeting-rescheduled
X-ALT-DESC;FMTTYPE=TEXT/HTML:<p>The Board of Directors meetings are typical
 ly held the last Tuesday of the month\, via a hybrid virtual conference us
 ing Zoom.&nbsp\;&nbsp\;The December meeting has been rescheduled to Tuesda
 y\, December 2\, 2025\, at 7:00 pm.&nbsp\;Please click&nbsp\;<a href='our-
 neighborhood/board-committees/board-of-directors'>here</a>&nbsp\;to obtain
  meeting details.</p>
END:VEVENT
END:VCALENDAR
