BEGIN:VCALENDAR
VERSION:2.0
PRODID:-//https://ftp.cameronstation.org//NONSGML kigkonsult.se iCalcreator 2.41.71//
CALSCALE:GREGORIAN
METHOD:PUBLISH
UID:34616134-6131-4433-b862-313362656166
X-WR-CALNAME:JCal Pro Calendar
X-WR-CALDESC:Your online events calendar
X-WR-TIMEZONE:America/New_York
BEGIN:VTIMEZONE
TZID:America/New_York
TZUNTIL:20271107T060000Z
BEGIN:STANDARD
TZNAME:EST
DTSTART:20251102T020000
TZOFFSETFROM:-0400
TZOFFSETTO:-0500
RDATE:20261101T020000
END:STANDARD
BEGIN:DAYLIGHT
TZNAME:EDT
DTSTART:20260308T020000
TZOFFSETFROM:-0500
TZOFFSETTO:-0400
RDATE:20270314T020000
END:DAYLIGHT
END:VTIMEZONE
BEGIN:VEVENT
UID:20251103T190000UTC-5628vug43w@https://cameronstation.org/
DTSTAMP:20260424T002248Z
CATEGORIES:Board & Committee Meetings
DESCRIPTION:<p><span style='font-size: 1rem\; caret-color: auto\;'>The Annu
 al Meeting of the Association will be held&nbsp\;Monday\, November 3\, 202
 5\, at 7:00 p.m. The meeting will be conducted in a hybrid format (Zoom an
 d In-Person) in the Victoria Hebert Great Room at the Cameron Club. All vo
 ting will be conducted through Ballot Bliss consisting of both paper and o
 nline balloting. More information\, incjuding the Zoom link\, will be prov
 ided in the 2nd Meeting Notice letter.&nbsp\;</span></p>
DTSTART;TZID=America/New_York:20251103T190000
DTEND;TZID=America/New_York:20251103T190000
SUMMARY:Cameron Station Annual Meeting 2025
URL:https://ftp.cameronstation.org/calendar/68-csca-event-calendar/74-commi
 ttee-meetings/9307-cameron-station-annual-meeting-2025
X-ALT-DESC;FMTTYPE=TEXT/HTML:<p><span style='font-size: 1rem\; caret-color:
  auto\;'>The Annual Meeting of the Association will be held&nbsp\;Monday\,
  November 3\, 2025\, at 7:00 p.m. The meeting will be conducted in a hybri
 d format (Zoom and In-Person) in the Victoria Hebert Great Room at the Cam
 eron Club. All voting will be conducted through Ballot Bliss consisting of
  both paper and online balloting. More information\, incjuding the Zoom li
 nk\, will be provided in the 2nd Meeting Notice letter.&nbsp\;</span></p>
END:VEVENT
END:VCALENDAR
