BEGIN:VCALENDAR
VERSION:2.0
PRODID:-//https://ftp.cameronstation.org//NONSGML kigkonsult.se iCalcreator 2.41.71//
CALSCALE:GREGORIAN
METHOD:PUBLISH
UID:63386239-3363-4430-a665-346233356636
X-WR-CALNAME:JCal Pro Calendar
X-WR-CALDESC:Your online events calendar
X-WR-TIMEZONE:America/New_York
BEGIN:VTIMEZONE
TZID:America/New_York
TZUNTIL:20271107T060000Z
BEGIN:STANDARD
TZNAME:EST
DTSTART:20251102T020000
TZOFFSETFROM:-0400
TZOFFSETTO:-0500
RDATE:20261101T020000
END:STANDARD
BEGIN:DAYLIGHT
TZNAME:EDT
DTSTART:20260308T020000
TZOFFSETFROM:-0500
TZOFFSETTO:-0400
RDATE:20270314T020000
END:DAYLIGHT
END:VTIMEZONE
BEGIN:VEVENT
UID:20250113T190000UTC-47319umTpv@https://cameronstation.org/
DTSTAMP:20260424T002203Z
CATEGORIES:Board & Committee Meetings
DESCRIPTION:<p>The Common Area Committee typically meets the&nbsp\;second M
 onday&nbsp\;of each month at 7:00pm\, via virtual conference.&nbsp\;Please
  click&nbsp\;<a href='resident-services/board-committees/common-area-commi
 ttee'>here</a>&nbsp\;for meeting information.</p>
DTSTART;TZID=America/New_York:20251117T190000
DTEND;TZID=America/New_York:20251117T200000
SUMMARY:Common Area Committee Meeting- Rescheduled
URL:https://ftp.cameronstation.org/calendar/68-csca-event-calendar/74-commi
 ttee-meetings/8967-common-area-committee-meeting
X-ALT-DESC;FMTTYPE=TEXT/HTML:<p>The Common Area Committee typically meets t
 he&nbsp\;second Monday&nbsp\;of each month at 7:00pm\, via virtual confere
 nce.&nbsp\;Please click&nbsp\;<a href='resident-services/board-committees/
 common-area-committee'>here</a>&nbsp\;for meeting information.</p>
END:VEVENT
END:VCALENDAR
