BEGIN:VCALENDAR
VERSION:2.0
PRODID:-//https://ftp.cameronstation.org//NONSGML kigkonsult.se iCalcreator 2.41.71//
CALSCALE:GREGORIAN
METHOD:PUBLISH
UID:39633933-6165-4232-a130-366631666632
X-WR-CALNAME:JCal Pro Calendar
X-WR-CALDESC:Your online events calendar
X-WR-TIMEZONE:America/New_York
BEGIN:VTIMEZONE
TZID:America/New_York
TZUNTIL:20271107T060000Z
BEGIN:STANDARD
TZNAME:EST
DTSTART:20251102T020000
TZOFFSETFROM:-0400
TZOFFSETTO:-0500
RDATE:20261101T020000
END:STANDARD
BEGIN:DAYLIGHT
TZNAME:EDT
DTSTART:20260308T020000
TZOFFSETFROM:-0500
TZOFFSETTO:-0400
RDATE:20270314T020000
END:DAYLIGHT
END:VTIMEZONE
BEGIN:VEVENT
UID:20250113T190000UTC-47319umTpv@https://cameronstation.org/
DTSTAMP:20260424T015453Z
CATEGORIES:Board & Committee Meetings
DESCRIPTION:<p>The Common Area Committee will not meet this month. The next
  meeting is scheduled for Monday\, November 17\, 2025\, at 7:00 pm.&nbsp\;
 </p>
DTSTART;TZID=America/New_York:20251020T190000
DTEND;TZID=America/New_York:20251020T200000
SUMMARY:Common Area Committee Meeting- Cancelled
URL:https://ftp.cameronstation.org/calendar/68-csca-event-calendar/74-commi
 ttee-meetings/8966-common-area-committee-meeting
X-ALT-DESC;FMTTYPE=TEXT/HTML:<p>The Common Area Committee will not meet thi
 s month. The next meeting is scheduled for Monday\, November 17\, 2025\, a
 t 7:00 pm.&nbsp\;</p>
END:VEVENT
END:VCALENDAR
