BEGIN:VCALENDAR
VERSION:2.0
PRODID:-//https://ftp.cameronstation.org//NONSGML kigkonsult.se iCalcreator 2.41.71//
CALSCALE:GREGORIAN
METHOD:PUBLISH
UID:36306537-3533-4762-a235-313361666534
X-WR-CALNAME:JCal Pro Calendar
X-WR-CALDESC:Your online events calendar
X-WR-TIMEZONE:America/New_York
BEGIN:VTIMEZONE
TZID:America/New_York
TZUNTIL:20271107T060000Z
BEGIN:STANDARD
TZNAME:EST
DTSTART:20251102T020000
TZOFFSETFROM:-0400
TZOFFSETTO:-0500
RDATE:20261101T020000
END:STANDARD
BEGIN:DAYLIGHT
TZNAME:EDT
DTSTART:20260308T020000
TZOFFSETFROM:-0500
TZOFFSETTO:-0400
RDATE:20270314T020000
END:DAYLIGHT
END:VTIMEZONE
BEGIN:VEVENT
UID:20240110T190000EST-91082VG8V7@https://cameronstation.org/
DTSTAMP:20260423T223722Z
CATEGORIES:Board & Committee Meetings
DESCRIPTION:<p>The Communications Committee typically meets the second Wedn
 esday of the month at 7:00 pm\, via virtual conference.&nbsp\;<strong>The 
 next meeting has been rescheduled to Monday\, December 15</strong><strong>
 \, 2025\, at 7:00 pm.&nbsp\;</strong>Please&nbsp\;<a href='our-neighborhoo
 d/board-committees/communications-committee'>click&nbsp\;here</a><a href='
 our-neighborhood/board-committees/communications-committee'></a>&nbsp\;for
  meeting information.</p>
DTSTART;TZID=America/New_York:20251215T190000
DTEND;TZID=America/New_York:20251215T200000
SUMMARY:Rescheduled: Communications Committee Meeting
URL:https://ftp.cameronstation.org/calendar/68-csca-event-calendar/74-commi
 ttee-meetings/7949-communications-committee-meeting
X-ALT-DESC;FMTTYPE=TEXT/HTML:<p>The Communications Committee typically meet
 s the second Wednesday of the month at 7:00 pm\, via virtual conference.&n
 bsp\;<strong>The next meeting has been rescheduled to Monday\, December 15
 </strong><strong>\, 2025\, at 7:00 pm.&nbsp\;</strong>Please&nbsp\;<a href
 ='our-neighborhood/board-committees/communications-committee'>click&nbsp\;
 here</a><a href='our-neighborhood/board-committees/communications-committe
 e'></a>&nbsp\;for meeting information.</p>
END:VEVENT
END:VCALENDAR
