BEGIN:VCALENDAR
VERSION:2.0
PRODID:-//https://ftp.cameronstation.org//NONSGML kigkonsult.se iCalcreator 2.41.71//
CALSCALE:GREGORIAN
METHOD:PUBLISH
UID:30303631-3731-4565-b338-623463326163
X-WR-CALNAME:JCal Pro Calendar
X-WR-CALDESC:Your online events calendar
X-WR-TIMEZONE:America/New_York
BEGIN:VTIMEZONE
TZID:America/New_York
TZUNTIL:20271107T060000Z
BEGIN:STANDARD
TZNAME:EST
DTSTART:20251102T020000
TZOFFSETFROM:-0400
TZOFFSETTO:-0500
RDATE:20261101T020000
END:STANDARD
BEGIN:DAYLIGHT
TZNAME:EDT
DTSTART:20260308T020000
TZOFFSETFROM:-0500
TZOFFSETTO:-0400
RDATE:20270314T020000
END:DAYLIGHT
END:VTIMEZONE
BEGIN:VEVENT
UID:20240903T190000UTC-21495EU9Zh@https://cameronstation.org/
DTSTAMP:20260425T101919Z
CATEGORIES:Board & Committee Meetings
DESCRIPTION:<p>Newsletter Subcommittee&nbsp\;will meet Tuesday\, September 
 3\, 2024\, at 7:00 pm.&nbsp\;<span style='text-decoration: underline\;'><a
  href='resident-services/board-committees/communications-committee/newslet
 ter-subcommittee' target='_blank' rel='noopener noreferrer'>Click here</a>
 </span>&nbsp\;for more information.</p>
DTSTART;TZID=America/New_York:20240903T190000
DTEND;TZID=America/New_York:20240903T190000
SUMMARY:Newsletter Subcommittee Meeting
URL:https://ftp.cameronstation.org/calendar/68-csca-event-calendar/74-commi
 ttee-meetings/7364-newsletter-subcommittee-meeting
X-ALT-DESC;FMTTYPE=TEXT/HTML:<p>Newsletter Subcommittee&nbsp\;will meet Tue
 sday\, September 3\, 2024\, at 7:00 pm.&nbsp\;<span style='text-decoration
 : underline\;'><a href='resident-services/board-committees/communications-
 committee/newsletter-subcommittee' target='_blank' rel='noopener noreferre
 r'>Click here</a></span>&nbsp\;for more information.</p>
END:VEVENT
END:VCALENDAR
