BEGIN:VCALENDAR
VERSION:2.0
PRODID:-//https://ftp.cameronstation.org//NONSGML kigkonsult.se iCalcreator 2.41.71//
CALSCALE:GREGORIAN
METHOD:PUBLISH
UID:36363666-3766-4533-b839-373533353339
X-WR-CALNAME:JCal Pro Calendar
X-WR-CALDESC:Your online events calendar
X-WR-TIMEZONE:America/New_York
BEGIN:VTIMEZONE
TZID:America/New_York
TZUNTIL:20271107T060000Z
BEGIN:STANDARD
TZNAME:EST
DTSTART:20251102T020000
TZOFFSETFROM:-0400
TZOFFSETTO:-0500
RDATE:20261101T020000
END:STANDARD
BEGIN:DAYLIGHT
TZNAME:EDT
DTSTART:20260308T020000
TZOFFSETFROM:-0500
TZOFFSETTO:-0400
RDATE:20270314T020000
END:DAYLIGHT
END:VTIMEZONE
BEGIN:VEVENT
UID:20240722T190000UTC-1212xZgNhM@https://cameronstation.org/
DTSTAMP:20260425T115506Z
CATEGORIES:Board & Committee Meetings
DESCRIPTION:<p>The Common Area Committee typically meets the&nbsp\;second M
 onday&nbsp\;of each month at 7:00pm\, via virtual conference.<strong>&nbsp
 \; This meeting has been reschdeuled to Monday\, July 22\, 2024\, at 7:00 
 pm.</strong> Please <span style='text-decoration: underline\;'>click&nbsp\
 ;<a href='resident-services/board-committees/common-area-committee'>here</
 a></span>&nbsp\;for meeting information.</p>
DTSTART;TZID=America/New_York:20240722T190000
DTEND;TZID=America/New_York:20240722T200000
SUMMARY:Rescheduled Common Area Committee Meeting
URL:https://ftp.cameronstation.org/calendar/68-csca-event-calendar/74-commi
 ttee-meetings/7283-rescheduled-common-area-committee-meeting
X-ALT-DESC;FMTTYPE=TEXT/HTML:<p>The Common Area Committee typically meets t
 he&nbsp\;second Monday&nbsp\;of each month at 7:00pm\, via virtual confere
 nce.<strong>&nbsp\; This meeting has been reschdeuled to Monday\, July 22\
 , 2024\, at 7:00 pm.</strong> Please <span style='text-decoration: underli
 ne\;'>click&nbsp\;<a href='resident-services/board-committees/common-area-
 committee'>here</a></span>&nbsp\;for meeting information.</p>
END:VEVENT
END:VCALENDAR
