BEGIN:VCALENDAR
VERSION:2.0
PRODID:-//https://ftp.cameronstation.org//NONSGML kigkonsult.se iCalcreator 2.41.71//
CALSCALE:GREGORIAN
METHOD:PUBLISH
UID:35636337-6363-4435-a433-316364383561
X-WR-CALNAME:JCal Pro Calendar
X-WR-CALDESC:Your online events calendar
X-WR-TIMEZONE:America/New_York
BEGIN:VTIMEZONE
TZID:America/New_York
TZUNTIL:20271107T060000Z
BEGIN:STANDARD
TZNAME:EST
DTSTART:20251102T020000
TZOFFSETFROM:-0400
TZOFFSETTO:-0500
RDATE:20261101T020000
END:STANDARD
BEGIN:DAYLIGHT
TZNAME:EDT
DTSTART:20260308T020000
TZOFFSETFROM:-0500
TZOFFSETTO:-0400
RDATE:20270314T020000
END:DAYLIGHT
END:VTIMEZONE
BEGIN:VEVENT
UID:20240423T190000UTC-8094cM1lFu@https://cameronstation.org/
DTSTAMP:20260425T163629Z
CATEGORIES:Board & Committee Meetings
DESCRIPTION:<p>The AdHoc Paving Committee&nbsp\;has engaged the services of
  an engineering firm to review the scope of work for paving the private Ca
 meron Station streets\, the proposals submitted\, and to provide project o
 versight.<strong>&nbsp\;The next meeting is scheduled for Tuesday\, April 
 23\, 2024\, at 7:00 pm\, via Zoom.</strong>&nbsp\; <span style='text-decor
 ation: underline\;'><a href='https://www.cameronstation.org/resident-servi
 ces/board-committees/adhoc-paving-committee'>Click here</a></span> for mor
 e information.&nbsp\;</p>
DTSTART;TZID=America/New_York:20240423T190000
DTEND;TZID=America/New_York:20240423T200000
SUMMARY:AdHoc Paving Committee Meeting
URL:https://ftp.cameronstation.org/calendar/68-csca-event-calendar/74-commi
 ttee-meetings/7072-adhoc-paving-committee-meeting
X-ALT-DESC;FMTTYPE=TEXT/HTML:<p>The AdHoc Paving Committee&nbsp\;has engage
 d the services of an engineering firm to review the scope of work for pavi
 ng the private Cameron Station streets\, the proposals submitted\, and to 
 provide project oversight.<strong>&nbsp\;The next meeting is scheduled for
  Tuesday\, April 23\, 2024\, at 7:00 pm\, via Zoom.</strong>&nbsp\; <span 
 style='text-decoration: underline\;'><a href='https://www.cameronstation.o
 rg/resident-services/board-committees/adhoc-paving-committee'>Click here</
 a></span> for more information.&nbsp\;</p>
END:VEVENT
END:VCALENDAR
