BEGIN:VCALENDAR
VERSION:2.0
PRODID:-//https://ftp.cameronstation.org//NONSGML kigkonsult.se iCalcreator 2.41.71//
CALSCALE:GREGORIAN
METHOD:PUBLISH
UID:37613964-3336-4132-a132-653735613964
X-WR-CALNAME:JCal Pro Calendar
X-WR-CALDESC:Your online events calendar
X-WR-TIMEZONE:America/New_York
BEGIN:VTIMEZONE
TZID:America/New_York
TZUNTIL:20271107T060000Z
BEGIN:STANDARD
TZNAME:EST
DTSTART:20251102T020000
TZOFFSETFROM:-0400
TZOFFSETTO:-0500
RDATE:20261101T020000
END:STANDARD
BEGIN:DAYLIGHT
TZNAME:EDT
DTSTART:20260308T020000
TZOFFSETFROM:-0500
TZOFFSETTO:-0400
RDATE:20270314T020000
END:DAYLIGHT
END:VTIMEZONE
BEGIN:VEVENT
UID:20240108T190000EST-0361WWeRrC@https://cameronstation.org/
DTSTAMP:20260425T101810Z
CATEGORIES:Board & Committee Meetings
DESCRIPTION:<p>Common Area Committee will not meet Monday\, August 12\, 202
 4. <strong>The meeting has been rescheduled to Monday\, August 19\, 2024\,
  at 7:00 pm</strong>.&nbsp\;<a href='https://cameronstation.org/resident-s
 ervices/board-committees/common-area-committee' target='_blank' rel='noope
 ner noreferrer' data-link-type='web'>Click here</a>&nbsp\;for more informa
 tion.</p>
DTSTART;TZID=America/New_York:20240819T190000
DTEND;TZID=America/New_York:20240819T200000
SUMMARY:Common Area Committee Meeting - Rescheduled
URL:https://ftp.cameronstation.org/calendar/68-csca-event-calendar/74-commi
 ttee-meetings/6568-common-area-committee-meeting
X-ALT-DESC;FMTTYPE=TEXT/HTML:<p>Common Area Committee will not meet Monday\
 , August 12\, 2024. <strong>The meeting has been rescheduled to Monday\, A
 ugust 19\, 2024\, at 7:00 pm</strong>.&nbsp\;<a href='https://cameronstati
 on.org/resident-services/board-committees/common-area-committee' target='_
 blank' rel='noopener noreferrer' data-link-type='web'>Click here</a>&nbsp\
 ;for more information.</p>
END:VEVENT
END:VCALENDAR
